Workbook

Sheet Sheet1
A1: 附件2
A2: 妇科类医疗服务价格项目废止表
A3: 序号 | B3: 财务分类代码 | C3: 国家项目代码 | D3: 国家项目名称 | E3: 地方项目代码 | F3: 地方项目名称 | G3: 地方项目内涵 （或章节说明） | H3: 除外内容 | I3: 计价单位 | J3: 计价说明 | K3: 一类价格（元） | L3: 二类一档 价格（元） | M3: 二类二档 价格（元） | N3: 三类价格（元） | O3: 基层价格（元） | P3: 备注
A4: 1 | B4: D | C4: 003112010040000 | D4: 阴道镜检查 | E4: 311201004 | F4: 阴道镜检查 | I4: 次 | J4: 电子镜加收50元 | K4: =_xlfn.XLOOKUP($E4,[1]测算表!$V:$V,[1]测算表!AB:AB,,0,1) -> 36 | L4: =_xlfn.XLOOKUP($E4,[1]测算表!$V:$V,[1]测算表!AC:AC,,0,1) -> 32 | M4: =_xlfn.XLOOKUP($E4,[1]测算表!$V:$V,[1]测算表!AD:AD,,0,1) -> 31 | N4: =_xlfn.XLOOKUP($E4,[1]测算表!$V:$V,[1]测算表!AE:AE,,0,1) -> 28 | O4: =_xlfn.XLOOKUP($E4,[1]测算表!$V:$V,[1]测算表!AF:AF,,0,1) -> 22
A5: 2 | B5: E | C5: 003112010110000 | D5: 宫颈内口探查术 | E5: 311201011 | F5: 宫颈内口探查术 | I5: 次 | K5: =_xlfn.XLOOKUP($E5,[1]测算表!$V:$V,[1]测算表!AB:AB,,0,1) -> 36 | L5: =_xlfn.XLOOKUP($E5,[1]测算表!$V:$V,[1]测算表!AC:AC,,0,1) -> 32 | M5: =_xlfn.XLOOKUP($E5,[1]测算表!$V:$V,[1]测算表!AD:AD,,0,1) -> 31 | N5: =_xlfn.XLOOKUP($E5,[1]测算表!$V:$V,[1]测算表!AE:AE,,0,1) -> 28 | O5: =_xlfn.XLOOKUP($E5,[1]测算表!$V:$V,[1]测算表!AF:AF,,0,1) -> 22
A6: 3 | B6: G | C6: 003313060030000 | D6: 宫腔镜检查 | E6: 331306003 | F6: 宫腔镜检查 | G6: 含活检。幼女阴道异物诊治参照执行。 | H6: 宫旁阻滞麻醉 | I6: 次 | K6: =_xlfn.XLOOKUP($E6,[1]测算表!$V:$V,[1]测算表!AB:AB,,0,1) -> 520 | L6: =_xlfn.XLOOKUP($E6,[1]测算表!$V:$V,[1]测算表!AC:AC,,0,1) -> 468 | M6: =_xlfn.XLOOKUP($E6,[1]测算表!$V:$V,[1]测算表!AD:AD,,0,1) -> 442 | N6: =_xlfn.XLOOKUP($E6,[1]测算表!$V:$V,[1]测算表!AE:AE,,0,1) -> 397 | O6: =_xlfn.XLOOKUP($E6,[1]测算表!$V:$V,[1]测算表!AF:AF,,0,1) -> 317
A7: 4 | B7: G | C7: 003112010670000 | D7: 经宫腔输卵管镜检查 | E7: 331306010 | F7: 经宫腔输卵管镜检查 | G7: 取出术前放置的宫颈扩张棒，消毒铺巾，留置导尿，拿取灭菌好的输卵管镜、宫腔镜部件，连接部件并与气腹机膨宫、光源、主机、电凝装置连接，放置窥器暴露宫颈，消毒阴道、宫颈，适当扩张宫颈放置带操作孔道的宫腔镜，常规探查宫腔情况，确定双单侧输卵管开口，经宫腔镜操作孔道放置输卵管镜，并在宫腔镜直视下送入输卵管开口内，探查输卵管腔内情况，明确输卵管病变原因，术毕再次消毒宫颈、阴道。不含活检。 | I7: 次 | K7: =_xlfn.XLOOKUP($E7,[1]测算表!$V:$V,[1]测算表!AB:AB,,0,1) -> 650 | L7: =_xlfn.XLOOKUP($E7,[1]测算表!$V:$V,[1]测算表!AC:AC,,0,1) -> 584 | M7: =_xlfn.XLOOKUP($E7,[1]测算表!$V:$V,[1]测算表!AD:AD,,0,1) -> 552 | N7: =_xlfn.XLOOKUP($E7,[1]测算表!$V:$V,[1]测算表!AE:AE,,0,1) -> 496 | O7: =_xlfn.XLOOKUP($E7,[1]测算表!$V:$V,[1]测算表!AF:AF,,0,1) -> 396
A8: 5 | B8: E | C8: 003112010050000 | D8: 阴道填塞 | E8: 311201005 | F8: 阴道填塞 | I8: 次 | K8: =_xlfn.XLOOKUP($E8,[1]测算表!$V:$V,[1]测算表!AB:AB,,0,1) -> 36 | L8: =_xlfn.XLOOKUP($E8,[1]测算表!$V:$V,[1]测算表!AC:AC,,0,1) -> 32 | M8: =_xlfn.XLOOKUP($E8,[1]测算表!$V:$V,[1]测算表!AD:AD,,0,1) -> 31 | N8: =_xlfn.XLOOKUP($E8,[1]测算表!$V:$V,[1]测算表!AE:AE,,0,1) -> 28 | O8: =_xlfn.XLOOKUP($E8,[1]测算表!$V:$V,[1]测算表!AF:AF,,0,1) -> 22
A9: 6 | B9: E | C9: 003112010060000 | D9: 阴道灌洗上药 | E9: 311201006 | F9: 阴道灌洗上药 | I9: 次 | K9: =_xlfn.XLOOKUP($E9,[1]测算表!$V:$V,[1]测算表!AB:AB,,0,1) -> 10 | L9: =_xlfn.XLOOKUP($E9,[1]测算表!$V:$V,[1]测算表!AC:AC,,0,1) -> 9 | M9: =_xlfn.XLOOKUP($E9,[1]测算表!$V:$V,[1]测算表!AD:AD,,0,1) -> 9 | N9: =_xlfn.XLOOKUP($E9,[1]测算表!$V:$V,[1]测算表!AE:AE,,0,1) -> 8 | O9: =_xlfn.XLOOKUP($E9,[1]测算表!$V:$V,[1]测算表!AF:AF,,0,1) -> 6
A10: 7 | B10: E | C10: 003112010090000 | D10: 宫颈注射 | E10: 311201009 | F10: 宫颈注射 | G10: 宫颈封闭、阴道侧穹窿封闭、上药、宫体注射分别参照执行 | H10: 纳米银妇女外用抗菌器、壳聚糖宫颈抗菌膜 | I10: 次 | K10: =_xlfn.XLOOKUP($E10,[1]测算表!$V:$V,[1]测算表!AB:AB,,0,1) -> 24 | L10: =_xlfn.XLOOKUP($E10,[1]测算表!$V:$V,[1]测算表!AC:AC,,0,1) -> 21 | M10: =_xlfn.XLOOKUP($E10,[1]测算表!$V:$V,[1]测算表!AD:AD,,0,1) -> 20 | N10: =_xlfn.XLOOKUP($E10,[1]测算表!$V:$V,[1]测算表!AE:AE,,0,1) -> 18 | O10: =_xlfn.XLOOKUP($E10,[1]测算表!$V:$V,[1]测算表!AF:AF,,0,1) -> 14
A11: 8 | B11: E | C11: 003112010100000 | D11: 宫颈扩张术 | E11: 311201010 | F11: 宫颈扩张术 | G11: 含宫颈插管 | I11: 次 | K11: =_xlfn.XLOOKUP($E11,[1]测算表!$V:$V,[1]测算表!AB:AB,,0,1) -> 36 | L11: =_xlfn.XLOOKUP($E11,[1]测算表!$V:$V,[1]测算表!AC:AC,,0,1) -> 32 | M11: =_xlfn.XLOOKUP($E11,[1]测算表!$V:$V,[1]测算表!AD:AD,,0,1) -> 31 | N11: =_xlfn.XLOOKUP($E11,[1]测算表!$V:$V,[1]测算表!AE:AE,,0,1) -> 28 | O11: =_xlfn.XLOOKUP($E11,[1]测算表!$V:$V,[1]测算表!AF:AF,,0,1) -> 22
A12: 9 | B12: E | C12: 003112010030000 | D12: 外阴病光照射治疗 | E12: 311201003 | F12: 外阴病光照射治疗 | G12: 光谱治疗、远红外线治疗分别参照执行 | I12: 30 分钟 | K12: =_xlfn.XLOOKUP($E12,[1]测算表!$V:$V,[1]测算表!AB:AB,,0,1) -> 12 | L12: =_xlfn.XLOOKUP($E12,[1]测算表!$V:$V,[1]测算表!AC:AC,,0,1) -> 10 | M12: =_xlfn.XLOOKUP($E12,[1]测算表!$V:$V,[1]测算表!AD:AD,,0,1) -> 10 | N12: =_xlfn.XLOOKUP($E12,[1]测算表!$V:$V,[1]测算表!AE:AE,,0,1) -> 9 | O12: =_xlfn.XLOOKUP($E12,[1]测算表!$V:$V,[1]测算表!AF:AF,,0,1) -> 7
A13: 10 | B13: E | C13: 003112010200000 | D13: 妇科特殊治疗 | E13: 311201020 | F13: 妇科特殊治疗 | G13: 指冷冻法，外阴、阴道、宫颈等疾患分别参照执行 | I13: 每个部位 | J13: 激光加收30元；微波加收40元；电熨加收30元 | K13: =_xlfn.XLOOKUP($E13,[1]测算表!$V:$V,[1]测算表!AB:AB,,0,1) -> 24 | L13: =_xlfn.XLOOKUP($E13,[1]测算表!$V:$V,[1]测算表!AC:AC,,0,1) -> 21 | M13: =_xlfn.XLOOKUP($E13,[1]测算表!$V:$V,[1]测算表!AD:AD,,0,1) -> 20 | N13: =_xlfn.XLOOKUP($E13,[1]测算表!$V:$V,[1]测算表!AE:AE,,0,1) -> 18 | O13: =_xlfn.XLOOKUP($E13,[1]测算表!$V:$V,[1]测算表!AF:AF,,0,1) -> 14
A14: 11 | B14: E | C14: 003103000860000 | D14: 光动力疗法(PDT) | E14: 310300086 | F14: 光动力疗法（PDT） | G14: 含光敏剂配置、微泵注入药物、激光治疗 | H14: 光敏剂 | I14: 次 | K14: =_xlfn.XLOOKUP($E14,[1]测算表!$V:$V,[1]测算表!AB:AB,,0,1) -> 500 | L14: =_xlfn.XLOOKUP($E14,[1]测算表!$V:$V,[1]测算表!AC:AC,,0,1) -> 449 | M14: =_xlfn.XLOOKUP($E14,[1]测算表!$V:$V,[1]测算表!AD:AD,,0,1) -> 424 | N14: =_xlfn.XLOOKUP($E14,[1]测算表!$V:$V,[1]测算表!AE:AE,,0,1) -> 381 | O14: =_xlfn.XLOOKUP($E14,[1]测算表!$V:$V,[1]测算表!AF:AF,,0,1) -> 304
A15: 12 | B15: E | C15: 433401000280000 | D15: 气浆态臭氧治疗 | E15: 340100028 | F15: 气浆态臭氧治疗 | I15: 次 | K15: =_xlfn.XLOOKUP($E15,[1]测算表!$V:$V,[1]测算表!AB:AB,,0,1) -> 37 | L15: =_xlfn.XLOOKUP($E15,[1]测算表!$V:$V,[1]测算表!AC:AC,,0,1) -> 33 | M15: =_xlfn.XLOOKUP($E15,[1]测算表!$V:$V,[1]测算表!AD:AD,,0,1) -> 31 | N15: =_xlfn.XLOOKUP($E15,[1]测算表!$V:$V,[1]测算表!AE:AE,,0,1) -> 28 | O15: =_xlfn.XLOOKUP($E15,[1]测算表!$V:$V,[1]测算表!AF:AF,,0,1) -> 22
A16: 13 | B16: G | C16: 003313040010000 | D16: 阴道异物取出术 | E16: 331304001 | F16: 阴道异物取出术 | I16: 次 | K16: =_xlfn.XLOOKUP($E16,[1]测算表!$V:$V,[1]测算表!AB:AB,,0,1) -> 299 | L16: =_xlfn.XLOOKUP($E16,[1]测算表!$V:$V,[1]测算表!AC:AC,,0,1) -> 269 | M16: =_xlfn.XLOOKUP($E16,[1]测算表!$V:$V,[1]测算表!AD:AD,,0,1) -> 254 | N16: =_xlfn.XLOOKUP($E16,[1]测算表!$V:$V,[1]测算表!AE:AE,,0,1) -> 229 | O16: =_xlfn.XLOOKUP($E16,[1]测算表!$V:$V,[1]测算表!AF:AF,,0,1) -> 183
A17: 14 | B17: E | C17: 003112010120000 | D17: 子宫托治疗 | E17: 311201012 | F17: 子宫托治疗 | G17: 含配戴、指导 | H17: 子宫托 | I17: 次 | K17: =_xlfn.XLOOKUP($E17,[1]测算表!$V:$V,[1]测算表!AB:AB,,0,1) -> 48 | L17: =_xlfn.XLOOKUP($E17,[1]测算表!$V:$V,[1]测算表!AC:AC,,0,1) -> 43 | M17: =_xlfn.XLOOKUP($E17,[1]测算表!$V:$V,[1]测算表!AD:AD,,0,1) -> 41 | N17: =_xlfn.XLOOKUP($E17,[1]测算表!$V:$V,[1]测算表!AE:AE,,0,1) -> 36 | O17: =_xlfn.XLOOKUP($E17,[1]测算表!$V:$V,[1]测算表!AF:AF,,0,1) -> 28
A18: 15 | B18: E | C18: 003112010070000 | D18: 后穹窿穿刺术 | E18: 311201007 | F18: 后穹窿穿刺术 | G18: 后穹窿注射、阴道肿瘤穿刺术参照执行 | I18: 次 | K18: =_xlfn.XLOOKUP($E18,[1]测算表!$V:$V,[1]测算表!AB:AB,,0,1) -> 36 | L18: =_xlfn.XLOOKUP($E18,[1]测算表!$V:$V,[1]测算表!AC:AC,,0,1) -> 32 | M18: =_xlfn.XLOOKUP($E18,[1]测算表!$V:$V,[1]测算表!AD:AD,,0,1) -> 30 | N18: =_xlfn.XLOOKUP($E18,[1]测算表!$V:$V,[1]测算表!AE:AE,,0,1) -> 27 | O18: =_xlfn.XLOOKUP($E18,[1]测算表!$V:$V,[1]测算表!AF:AF,,0,1) -> 21
A19: 16 | B19: G | C19: 003313010010000 | D19: 经阴道卵巢囊肿穿刺术 | E19: 331301001 | F19: 经阴道卵巢囊肿穿刺术 | G19: 含活检 | I19: 单侧 | J19: △ | K19: =_xlfn.XLOOKUP($E19,[1]测算表!$V:$V,[1]测算表!AB:AB,,0,1) -> 815 | L19: =_xlfn.XLOOKUP($E19,[1]测算表!$V:$V,[1]测算表!AC:AC,,0,1) -> 733 | M19: =_xlfn.XLOOKUP($E19,[1]测算表!$V:$V,[1]测算表!AD:AD,,0,1) -> 692 | N19: =_xlfn.XLOOKUP($E19,[1]测算表!$V:$V,[1]测算表!AE:AE,,0,1) -> 622 | O19: =_xlfn.XLOOKUP($E19,[1]测算表!$V:$V,[1]测算表!AF:AF,,0,1) -> 497
A20: 17 | B20: E | C20: 003112010380000 | D20: B超下卵巢囊肿穿刺术 | E20: 311201038 | F20: B超下卵巢囊肿穿刺术 | I20: 次 | K20: =_xlfn.XLOOKUP($E20,[1]测算表!$V:$V,[1]测算表!AB:AB,,0,1) -> 360 | L20: =_xlfn.XLOOKUP($E20,[1]测算表!$V:$V,[1]测算表!AC:AC,,0,1) -> 323 | M20: =_xlfn.XLOOKUP($E20,[1]测算表!$V:$V,[1]测算表!AD:AD,,0,1) -> 306 | N20: =_xlfn.XLOOKUP($E20,[1]测算表!$V:$V,[1]测算表!AE:AE,,0,1) -> 275 | O20: =_xlfn.XLOOKUP($E20,[1]测算表!$V:$V,[1]测算表!AF:AF,,0,1) -> 218
A21: 18 | E21: 311201071 | F21: 子宫腔内药物灌注治疗 | G21: 通过特殊导管向宫腔注入药物治疗子宫内膜相关疾病，实现改善薄型子宫内膜、子宫内膜炎、因子宫内膜容受性差导致反复种植失败等情况。 所定价格涵盖灌注操作的人力资源和基本物质资源消耗。不含超声引导费用。 | I21: 次 | K21: =_xlfn.XLOOKUP($E21,[1]测算表!$V:$V,[1]测算表!AB:AB,,0,1) -> 120 | L21: =_xlfn.XLOOKUP($E21,[1]测算表!$V:$V,[1]测算表!AC:AC,,0,1) -> 108 | M21: =_xlfn.XLOOKUP($E21,[1]测算表!$V:$V,[1]测算表!AD:AD,,0,1) -> 102 | N21: =_xlfn.XLOOKUP($E21,[1]测算表!$V:$V,[1]测算表!AE:AE,,0,1) -> 0 | O21: =_xlfn.XLOOKUP($E21,[1]测算表!$V:$V,[1]测算表!AF:AF,,0,1) -> 0
A22: 19 | B22: E | C22: 003112010160000 | D22: 子宫内翻复位术 | E22: 311201016 | F22: 子宫内翻复位术 | G22: 指手法复位 | I22: 次 | K22: =_xlfn.XLOOKUP($E22,[1]测算表!$V:$V,[1]测算表!AB:AB,,0,1) -> 未定 | L22: =_xlfn.XLOOKUP($E22,[1]测算表!$V:$V,[1]测算表!AC:AC,,0,1) -> 未定 | M22: =_xlfn.XLOOKUP($E22,[1]测算表!$V:$V,[1]测算表!AD:AD,,0,1) -> 未定 | N22: =_xlfn.XLOOKUP($E22,[1]测算表!$V:$V,[1]测算表!AE:AE,,0,1) -> 未定 | O22: =_xlfn.XLOOKUP($E22,[1]测算表!$V:$V,[1]测算表!AF:AF,,0,1) -> 未定
A23: 20 | B23: G | C23: 003313050110000 | D23: 外阴整形术 | E23: 331305011 | F23: 外阴整形术 | G23: 不含取皮瓣 | I23: 次 | K23: =_xlfn.XLOOKUP($E23,[1]测算表!$V:$V,[1]测算表!AB:AB,,0,1) -> 自主 定价 | L23: =_xlfn.XLOOKUP($E23,[1]测算表!$V:$V,[1]测算表!AC:AC,,0,1) -> 自主 定价 | M23: =_xlfn.XLOOKUP($E23,[1]测算表!$V:$V,[1]测算表!AD:AD,,0,1) -> 自主 定价 | N23: =_xlfn.XLOOKUP($E23,[1]测算表!$V:$V,[1]测算表!AE:AE,,0,1) -> 自主 定价 | O23: =_xlfn.XLOOKUP($E23,[1]测算表!$V:$V,[1]测算表!AF:AF,,0,1) -> 自主 定价
A24: 21 | B24: G | C24: 003313040020000 | D24: 阴道裂伤缝合术 | E24: 331304002 | F24: 阴道裂伤缝合术 | I24: 次 | K24: =_xlfn.XLOOKUP($E24,[1]测算表!$V:$V,[1]测算表!AB:AB,,0,1) -> 448 | L24: =_xlfn.XLOOKUP($E24,[1]测算表!$V:$V,[1]测算表!AC:AC,,0,1) -> 403 | M24: =_xlfn.XLOOKUP($E24,[1]测算表!$V:$V,[1]测算表!AD:AD,,0,1) -> 381 | N24: =_xlfn.XLOOKUP($E24,[1]测算表!$V:$V,[1]测算表!AE:AE,,0,1) -> 343 | O24: =_xlfn.XLOOKUP($E24,[1]测算表!$V:$V,[1]测算表!AF:AF,,0,1) -> 274
A25: 22 | B25: G | C25: 003313040130000 | D25: 后穹窿损伤缝合术 | E25: 331304013 | F25: 后穹窿损伤缝合术 | G25: 阴道后穹窿切开引流参照执行 | I25: 次 | K25: =_xlfn.XLOOKUP($E25,[1]测算表!$V:$V,[1]测算表!AB:AB,,0,1) -> 725 | L25: =_xlfn.XLOOKUP($E25,[1]测算表!$V:$V,[1]测算表!AC:AC,,0,1) -> 653 | M25: =_xlfn.XLOOKUP($E25,[1]测算表!$V:$V,[1]测算表!AD:AD,,0,1) -> 616 | N25: =_xlfn.XLOOKUP($E25,[1]测算表!$V:$V,[1]测算表!AE:AE,,0,1) -> 543 | O25: =_xlfn.XLOOKUP($E25,[1]测算表!$V:$V,[1]测算表!AF:AF,,0,1) -> 434
A26: 23 | B26: G | C26: 003313050010000 | D26: 外阴损伤缝合术 | E26: 331305001 | F26: 外阴损伤缝合术 | G26: 含小阴唇粘连分离术 | I26: 次 | K26: =_xlfn.XLOOKUP($E26,[1]测算表!$V:$V,[1]测算表!AB:AB,,0,1) -> 448 | L26: =_xlfn.XLOOKUP($E26,[1]测算表!$V:$V,[1]测算表!AC:AC,,0,1) -> 403 | M26: =_xlfn.XLOOKUP($E26,[1]测算表!$V:$V,[1]测算表!AD:AD,,0,1) -> 381 | N26: =_xlfn.XLOOKUP($E26,[1]测算表!$V:$V,[1]测算表!AE:AE,,0,1) -> 343 | O26: =_xlfn.XLOOKUP($E26,[1]测算表!$V:$V,[1]测算表!AF:AF,,0,1) -> 274
A27: 24 | B27: G | C27: 003313050020000 | D27: 陈旧性会阴裂伤修补术 | E27: 331305002 | F27: 陈旧性会阴裂伤修补术 | I27: 次 | K27: =_xlfn.XLOOKUP($E27,[1]测算表!$V:$V,[1]测算表!AB:AB,,0,1) -> 583 | L27: =_xlfn.XLOOKUP($E27,[1]测算表!$V:$V,[1]测算表!AC:AC,,0,1) -> 525 | M27: =_xlfn.XLOOKUP($E27,[1]测算表!$V:$V,[1]测算表!AD:AD,,0,1) -> 496 | N27: =_xlfn.XLOOKUP($E27,[1]测算表!$V:$V,[1]测算表!AE:AE,,0,1) -> 435 | O27: =_xlfn.XLOOKUP($E27,[1]测算表!$V:$V,[1]测算表!AF:AF,,0,1) -> 347
A28: 25 | B28: G | C28: 003313040030000 | D28: 阴道扩张术 | E28: 331304003 | F28: 阴道扩张术 | H28: 扩张用模具 | I28: 次 | K28: =_xlfn.XLOOKUP($E28,[1]测算表!$V:$V,[1]测算表!AB:AB,,0,1) -> 299 | L28: =_xlfn.XLOOKUP($E28,[1]测算表!$V:$V,[1]测算表!AC:AC,,0,1) -> 269 | M28: =_xlfn.XLOOKUP($E28,[1]测算表!$V:$V,[1]测算表!AD:AD,,0,1) -> 254 | N28: =_xlfn.XLOOKUP($E28,[1]测算表!$V:$V,[1]测算表!AE:AE,,0,1) -> 229 | O28: =_xlfn.XLOOKUP($E28,[1]测算表!$V:$V,[1]测算表!AF:AF,,0,1) -> 183
A29: 26 | B29: G | C29: 003313050030000 | D29: 陈旧性会阴Ⅲ度裂伤缝合术 | E29: 331305003 | F29: 陈旧性会阴Ⅲ度裂伤缝合术 | G29: 含肛门括约肌及直肠裂伤 | I29: 次 | K29: =_xlfn.XLOOKUP($E29,[1]测算表!$V:$V,[1]测算表!AB:AB,,0,1) -> 1170 | L29: =_xlfn.XLOOKUP($E29,[1]测算表!$V:$V,[1]测算表!AC:AC,,0,1) -> 1053 | M29: =_xlfn.XLOOKUP($E29,[1]测算表!$V:$V,[1]测算表!AD:AD,,0,1) -> 995 | N29: =_xlfn.XLOOKUP($E29,[1]测算表!$V:$V,[1]测算表!AE:AE,,0,1) -> 895 | O29: =_xlfn.XLOOKUP($E29,[1]测算表!$V:$V,[1]测算表!AF:AF,,0,1) -> 715
A30: 27 | B30: G | C30: 003313050040000 | D30: 外阴脓肿切开引流术 | E30: 331305004 | F30: 外阴脓肿切开引流术 | G30: 外阴血肿切开参照执行 | I30: 次 | K30: =_xlfn.XLOOKUP($E30,[1]测算表!$V:$V,[1]测算表!AB:AB,,0,1) -> 299 | L30: =_xlfn.XLOOKUP($E30,[1]测算表!$V:$V,[1]测算表!AC:AC,,0,1) -> 269 | M30: =_xlfn.XLOOKUP($E30,[1]测算表!$V:$V,[1]测算表!AD:AD,,0,1) -> 254 | N30: =_xlfn.XLOOKUP($E30,[1]测算表!$V:$V,[1]测算表!AE:AE,,0,1) -> 229 | O30: =_xlfn.XLOOKUP($E30,[1]测算表!$V:$V,[1]测算表!AF:AF,,0,1) -> 183
A31: 28 | B31: G | C31: 003313040100000 | D31: 阴道壁血肿切开术 | E31: 331304010 | F31: 阴道壁血肿切开术 | I31: 次 | K31: =_xlfn.XLOOKUP($E31,[1]测算表!$V:$V,[1]测算表!AB:AB,,0,1) -> 448 | L31: =_xlfn.XLOOKUP($E31,[1]测算表!$V:$V,[1]测算表!AC:AC,,0,1) -> 403 | M31: =_xlfn.XLOOKUP($E31,[1]测算表!$V:$V,[1]测算表!AD:AD,,0,1) -> 381 | N31: =_xlfn.XLOOKUP($E31,[1]测算表!$V:$V,[1]测算表!AE:AE,,0,1) -> 343 | O31: =_xlfn.XLOOKUP($E31,[1]测算表!$V:$V,[1]测算表!AF:AF,,0,1) -> 274
A32: 29 | B32: G | C32: 003313050120000 | D32: 前庭大腺囊肿造口术 | E32: 331305012 | F32: 前庭大腺囊肿造口术 | G32: 含脓肿切开引流术 | I32: 次 | K32: =_xlfn.XLOOKUP($E32,[1]测算表!$V:$V,[1]测算表!AB:AB,,0,1) -> 448 | L32: =_xlfn.XLOOKUP($E32,[1]测算表!$V:$V,[1]测算表!AC:AC,,0,1) -> 403 | M32: =_xlfn.XLOOKUP($E32,[1]测算表!$V:$V,[1]测算表!AD:AD,,0,1) -> 381 | N32: =_xlfn.XLOOKUP($E32,[1]测算表!$V:$V,[1]测算表!AE:AE,,0,1) -> 343 | O32: =_xlfn.XLOOKUP($E32,[1]测算表!$V:$V,[1]测算表!AF:AF,,0,1) -> 274
A33: 30 | B33: G | C33: 003313050080000 | D33: 单纯性外阴切除术 | E33: 331305008 | F33: 单纯性外阴切除术 | I33: 次 | J33: △ | K33: =_xlfn.XLOOKUP($E33,[1]测算表!$V:$V,[1]测算表!AB:AB,,0,1) -> 1155 | L33: =_xlfn.XLOOKUP($E33,[1]测算表!$V:$V,[1]测算表!AC:AC,,0,1) -> 1040 | M33: =_xlfn.XLOOKUP($E33,[1]测算表!$V:$V,[1]测算表!AD:AD,,0,1) -> 981 | N33: =_xlfn.XLOOKUP($E33,[1]测算表!$V:$V,[1]测算表!AE:AE,,0,1) -> 882 | O33: =_xlfn.XLOOKUP($E33,[1]测算表!$V:$V,[1]测算表!AF:AF,,0,1) -> 705
A34: 31 | B34: G | C34: 003313050050000 | D34: 外阴良性肿物切除术 | E34: 331305005 | F34: 外阴良性肿物切除术 | G34: 肿瘤、囊肿、赘生物等分别参照执行 | I34: 次 | K34: =_xlfn.XLOOKUP($E34,[1]测算表!$V:$V,[1]测算表!AB:AB,,0,1) -> 448 | L34: =_xlfn.XLOOKUP($E34,[1]测算表!$V:$V,[1]测算表!AC:AC,,0,1) -> 403 | M34: =_xlfn.XLOOKUP($E34,[1]测算表!$V:$V,[1]测算表!AD:AD,,0,1) -> 381 | N34: =_xlfn.XLOOKUP($E34,[1]测算表!$V:$V,[1]测算表!AE:AE,,0,1) -> 343 | O34: =_xlfn.XLOOKUP($E34,[1]测算表!$V:$V,[1]测算表!AF:AF,,0,1) -> 274
A35: 32 | B35: G | C35: 003313050130000 | D35: 前庭大腺囊肿切除术 | E35: 331305013 | F35: 前庭大腺囊肿切除术 | I35: 次 | K35: =_xlfn.XLOOKUP($E35,[1]测算表!$V:$V,[1]测算表!AB:AB,,0,1) -> 725 | L35: =_xlfn.XLOOKUP($E35,[1]测算表!$V:$V,[1]测算表!AC:AC,,0,1) -> 653 | M35: =_xlfn.XLOOKUP($E35,[1]测算表!$V:$V,[1]测算表!AD:AD,,0,1) -> 616 | N35: =_xlfn.XLOOKUP($E35,[1]测算表!$V:$V,[1]测算表!AE:AE,,0,1) -> 543 | O35: =_xlfn.XLOOKUP($E35,[1]测算表!$V:$V,[1]测算表!AF:AF,,0,1) -> 434
A36: 33 | B36: G | C36: 003313050090000 | D36: 外阴局部扩大切除术 | E36: 331305009 | F36: 外阴局部扩大切除术 | I36: 次 | J36: △ | K36: =_xlfn.XLOOKUP($E36,[1]测算表!$V:$V,[1]测算表!AB:AB,,0,1) -> 1087 | L36: =_xlfn.XLOOKUP($E36,[1]测算表!$V:$V,[1]测算表!AC:AC,,0,1) -> 978 | M36: =_xlfn.XLOOKUP($E36,[1]测算表!$V:$V,[1]测算表!AD:AD,,0,1) -> 924 | N36: =_xlfn.XLOOKUP($E36,[1]测算表!$V:$V,[1]测算表!AE:AE,,0,1) -> 831 | O36: =_xlfn.XLOOKUP($E36,[1]测算表!$V:$V,[1]测算表!AF:AF,,0,1) -> 664
A37: 34 | B37: G | C37: 003313050100000 | D37: 外阴广泛切除+淋巴结清除术 | E37: 331305010 | F37: 外阴广泛切除+淋巴结清除术 | G37: 含腹股沟淋巴、股深淋巴、盆、腹腔淋巴结清除术。不含特殊引流 | I37: 次 | J37: △ | K37: =_xlfn.XLOOKUP($E37,[1]测算表!$V:$V,[1]测算表!AB:AB,,0,1) -> 2581 | L37: =_xlfn.XLOOKUP($E37,[1]测算表!$V:$V,[1]测算表!AC:AC,,0,1) -> 2322 | M37: =_xlfn.XLOOKUP($E37,[1]测算表!$V:$V,[1]测算表!AD:AD,,0,1) -> 2194 | N37: =_xlfn.XLOOKUP($E37,[1]测算表!$V:$V,[1]测算表!AE:AE,,0,1) -> 1974 | O37: =_xlfn.XLOOKUP($E37,[1]测算表!$V:$V,[1]测算表!AF:AF,,0,1) -> 1579
A38: 35 | B38: G | C38: 003313050060000 | D38: 阴蒂肥大整复术 | E38: 331305006 | F38: 阴蒂肥大整复术 | I38: 次 | K38: =_xlfn.XLOOKUP($E38,[1]测算表!$V:$V,[1]测算表!AB:AB,,0,1) -> 448 | L38: =_xlfn.XLOOKUP($E38,[1]测算表!$V:$V,[1]测算表!AC:AC,,0,1) -> 403 | M38: =_xlfn.XLOOKUP($E38,[1]测算表!$V:$V,[1]测算表!AD:AD,,0,1) -> 380 | N38: =_xlfn.XLOOKUP($E38,[1]测算表!$V:$V,[1]测算表!AE:AE,,0,1) -> 342 | O38: =_xlfn.XLOOKUP($E38,[1]测算表!$V:$V,[1]测算表!AF:AF,,0,1) -> 272
A39: 36 | B39: G | C39: 003313050070000 | D39: 阴蒂短缩成型术 | E39: 331305007 | F39: 阴蒂短缩成型术 | I39: 次 | K39: =_xlfn.XLOOKUP($E39,[1]测算表!$V:$V,[1]测算表!AB:AB,,0,1) -> 653 | L39: =_xlfn.XLOOKUP($E39,[1]测算表!$V:$V,[1]测算表!AC:AC,,0,1) -> 587 | M39: =_xlfn.XLOOKUP($E39,[1]测算表!$V:$V,[1]测算表!AD:AD,,0,1) -> 555 | N39: =_xlfn.XLOOKUP($E39,[1]测算表!$V:$V,[1]测算表!AE:AE,,0,1) -> 488 | O39: =_xlfn.XLOOKUP($E39,[1]测算表!$V:$V,[1]测算表!AF:AF,,0,1) -> 390
A40: 37 | B40: G | C40: 003313050140000 | D40: 处女膜切开术 | E40: 331305014 | F40: 处女膜切开术 | I40: 次 | K40: =_xlfn.XLOOKUP($E40,[1]测算表!$V:$V,[1]测算表!AB:AB,,0,1) -> 224 | L40: =_xlfn.XLOOKUP($E40,[1]测算表!$V:$V,[1]测算表!AC:AC,,0,1) -> 201 | M40: =_xlfn.XLOOKUP($E40,[1]测算表!$V:$V,[1]测算表!AD:AD,,0,1) -> 190 | N40: =_xlfn.XLOOKUP($E40,[1]测算表!$V:$V,[1]测算表!AE:AE,,0,1) -> 170 | O40: =_xlfn.XLOOKUP($E40,[1]测算表!$V:$V,[1]测算表!AF:AF,,0,1) -> 135
...
