Workbook

Sheet Sheet1
A1: 附件2
A2: 妇科类医疗服务价格项目废止表
A3: 序号 | B3: 财务分类代码 | C3: 国家项目代码 | D3: 国家项目名称 | E3: 地方项目代码 | F3: 地方项目名称 | G3: 地方项目内涵 （或章节说明） | H3: 除外内容 | I3: 计价单位 | J3: 计价说明 | K3: 一类价格（元） | L3: 二类一档 价格（元） | M3: 二类二档 价格（元） | N3: 三类价格（元） | O3: 基层价格（元） | P3: 备注
A4: 1 | B4: D | C4: 003112010040000 | D4: 阴道镜检查 | E4: 311201004 | F4: 阴道镜检查 | I4: 次 | J4: 电子镜加收50元 | K4: =_xlfn.XLOOKUP($E4,[1]测算表!$V:$V,[1]测算表!AB:AB,,0,1) -> 36 | L4: =_xlfn.XLOOKUP($E4,[1]测算表!$V:$V,[1]测算表!AC:AC,,0,1) -> 32 | M4: =_xlfn.XLOOKUP($E4,[1]测算表!$V:$V,[1]测算表!AD:AD,,0,1) -> 31 | N4: =_xlfn.XLOOKUP($E4,[1]测算表!$V:$V,[1]测算表!AE:AE,,0,1) -> 28 | O4: =_xlfn.XLOOKUP($E4,[1]测算表!$V:$V,[1]测算表!AF:AF,,0,1) -> 22
A5: 2 | B5: E | C5: 003112010110000 | D5: 宫颈内口探查术 | E5: 311201011 | F5: 宫颈内口探查术 | I5: 次 | K5: =_xlfn.XLOOKUP($E5,[1]测算表!$V:$V,[1]测算表!AB:AB,,0,1) -> 36 | L5: =_xlfn.XLOOKUP($E5,[1]测算表!$V:$V,[1]测算表!AC:AC,,0,1) -> 32 | M5: =_xlfn.XLOOKUP($E5,[1]测算表!$V:$V,[1]测算表!AD:AD,,0,1) -> 31 | N5: =_xlfn.XLOOKUP($E5,[1]测算表!$V:$V,[1]测算表!AE:AE,,0,1) -> 28 | O5: =_xlfn.XLOOKUP($E5,[1]测算表!$V:$V,[1]测算表!AF:AF,,0,1) -> 22
A6: 3 | B6: G | C6: 003313060030000 | D6: 宫腔镜检查 | E6: 331306003 | F6: 宫腔镜检查 | G6: 含活检。幼女阴道异物诊治参照执行。 | H6: 宫旁阻滞麻醉 | I6: 次 | K6: =_xlfn.XLOOKUP($E6,[1]测算表!$V:$V,[1]测算表!AB:AB,,0,1) -> 520 | L6: =_xlfn.XLOOKUP($E6,[1]测算表!$V:$V,[1]测算表!AC:AC,,0,1) -> 468 | M6: =_xlfn.XLOOKUP($E6,[1]测算表!$V:$V,[1]测算表!AD:AD,,0,1) -> 442 | N6: =_xlfn.XLOOKUP($E6,[1]测算表!$V:$V,[1]测算表!AE:AE,,0,1) -> 397 | O6: =_xlfn.XLOOKUP($E6,[1]测算表!$V:$V,[1]测算表!AF:AF,,0,1) -> 317
A7: 4 | B7: G | C7: 003112010670000 | D7: 经宫腔输卵管镜检查 | E7: 331306010 | F7: 经宫腔输卵管镜检查 | G7: 取出术前放置的宫颈扩张棒，消毒铺巾，留置导尿，拿取灭菌好的输卵管镜、宫腔镜部件，连接部件并与气腹机膨宫、光源、主机、电凝装置连接，放置窥器暴露宫颈，消毒阴道、宫颈，适当扩张宫颈放置带操作孔道的宫腔镜，常规探查宫腔情况，确定双单侧输卵管开口，经宫腔镜操作孔道放置输卵管镜，并在宫腔镜直视下送入输卵管开口内，探查输卵管腔内情况，明确输卵管病变原因，术毕再次消毒宫颈、阴道。不含活检。 | I7: 次 | K7: =_xlfn.XLOOKUP($E7,[1]测算表!$V:$V,[1]测算表!AB:AB,,0,1) -> 650 | L7: =_xlfn.XLOOKUP($E7,[1]测算表!$V:$V,[1]测算表!AC:AC,,0,1) -> 584 | M7: =_xlfn.XLOOKUP($E7,[1]测算表!$V:$V,[1]测算表!AD:AD,,0,1) -> 552 | N7: =_xlfn.XLOOKUP($E7,[1]测算表!$V:$V,[1]测算表!AE:AE,,0,1) -> 496 | O7: =_xlfn.XLOOKUP($E7,[1]测算表!$V:$V,[1]测算表!AF:AF,,0,1) -> 396
A8: 5 | B8: E | C8: 003112010050000 | D8: 阴道填塞 | E8: 311201005 | F8: 阴道填塞 | I8: 次 | K8: =_xlfn.XLOOKUP($E8,[1]测算表!$V:$V,[1]测算表!AB:AB,,0,1) -> 36 | L8: =_xlfn.XLOOKUP($E8,[1]测算表!$V:$V,[1]测算表!AC:AC,,0,1) -> 32 | M8: =_xlfn.XLOOKUP($E8,[1]测算表!$V:$V,[1]测算表!AD:AD,,0,1) -> 31 | N8: =_xlfn.XLOOKUP($E8,[1]测算表!$V:$V,[1]测算表!AE:AE,,0,1) -> 28 | O8: =_xlfn.XLOOKUP($E8,[1]测算表!$V:$V,[1]测算表!AF:AF,,0,1) -> 22
A9: 6 | B9: E | C9: 003112010060000 | D9: 阴道灌洗上药 | E9: 311201006 | F9: 阴道灌洗上药 | I9: 次 | K9: =_xlfn.XLOOKUP($E9,[1]测算表!$V:$V,[1]测算表!AB:AB,,0,1) -> 10 | L9: =_xlfn.XLOOKUP($E9,[1]测算表!$V:$V,[1]测算表!AC:AC,,0,1) -> 9 | M9: =_xlfn.XLOOKUP($E9,[1]测算表!$V:$V,[1]测算表!AD:AD,,0,1) -> 9 | N9: =_xlfn.XLOOKUP($E9,[1]测算表!$V:$V,[1]测算表!AE:AE,,0,1) -> 8 | O9: =_xlfn.XLOOKUP($E9,[1]测算表!$V:$V,[1]测算表!AF:AF,,0,1) -> 6
A10: 7 | B10: E | C10: 003112010090000 | D10: 宫颈注射 | E10: 311201009 | F10: 宫颈注射 | G10: 宫颈封闭、阴道侧穹窿封闭、上药、宫体注射分别参照执行 | H10: 纳米银妇女外用抗菌器、壳聚糖宫颈抗菌膜 | I10: 次 | K10: =_xlfn.XLOOKUP($E10,[1]测算表!$V:$V,[1]测算表!AB:AB,,0,1) -> 24 | L10: =_xlfn.XLOOKUP($E10,[1]测算表!$V:$V,[1]测算表!AC:AC,,0,1) -> 21 | M10: =_xlfn.XLOOKUP($E10,[1]测算表!$V:$V,[1]测算表!AD:AD,,0,1) -> 20 | N10: =_xlfn.XLOOKUP($E10,[1]测算表!$V:$V,[1]测算表!AE:AE,,0,1) -> 18 | O10: =_xlfn.XLOOKUP($E10,[1]测算表!$V:$V,[1]测算表!AF:AF,,0,1) -> 14
A11: 8 | B11: E | C11: 003112010100000 | D11: 宫颈扩张术 | E11: 311201010 | F11: 宫颈扩张术 | G11: 含宫颈插管 | I11: 次 | K11: =_xlfn.XLOOKUP($E11,[1]测算表!$V:$V,[1]测算表!AB:AB,,0,1) -> 36 | L11: =_xlfn.XLOOKUP($E11,[1]测算表!$V:$V,[1]测算表!AC:AC,,0,1) -> 32 | M11: =_xlfn.XLOOKUP($E11,[1]测算表!$V:$V,[1]测算表!AD:AD,,0,1) -> 31 | N11: =_xlfn.XLOOKUP($E11,[1]测算表!$V:$V,[1]测算表!AE:AE,,0,1) -> 28 | O11: =_xlfn.XLOOKUP($E11,[1]测算表!$V:$V,[1]测算表!AF:AF,,0,1) -> 22
A12: 9 | B12: E | C12: 003112010030000 | D12: 外阴病光照射治疗 | E12: 311201003 | F12: 外阴病光照射治疗 | G12: 光谱治疗、远红外线治疗分别参照执行 | I12: 30 分钟 | K12: =_xlfn.XLOOKUP($E12,[1]测算表!$V:$V,[1]测算表!AB:AB,,0,1) -> 12 | L12: =_xlfn.XLOOKUP($E12,[1]测算表!$V:$V,[1]测算表!AC:AC,,0,1) -> 10 | M12: =_xlfn.XLOOKUP($E12,[1]测算表!$V:$V,[1]测算表!AD:AD,,0,1) -> 10 | N12: =_xlfn.XLOOKUP($E12,[1]测算表!$V:$V,[1]测算表!AE:AE,,0,1) -> 9 | O12: =_xlfn.XLOOKUP($E12,[1]测算表!$V:$V,[1]测算表!AF:AF,,0,1) -> 7
A13: 10 | B13: E | C13: 003112010200000 | D13: 妇科特殊治疗 | E13: 311201020 | F13: 妇科特殊治疗 | G13: 指冷冻法，外阴、阴道、宫颈等疾患分别参照执行 | I13: 每个部位 | J13: 激光加收30元；微波加收40元；电熨加收30元 | K13: =_xlfn.XLOOKUP($E13,[1]测算表!$V:$V,[1]测算表!AB:AB,,0,1) -> 24 | L13: =_xlfn.XLOOKUP($E13,[1]测算表!$V:$V,[1]测算表!AC:AC,,0,1) -> 21 | M13: =_xlfn.XLOOKUP($E13,[1]测算表!$V:$V,[1]测算表!AD:AD,,0,1) -> 20 | N13: =_xlfn.XLOOKUP($E13,[1]测算表!$V:$V,[1]测算表!AE:AE,,0,1) -> 18 | O13: =_xlfn.XLOOKUP($E13,[1]测算表!$V:$V,[1]测算表!AF:AF,,0,1) -> 14
A14: 11 | B14: E | C14: 003103000860000 | D14: 光动力疗法(PDT) | E14: 310300086 | F14: 光动力疗法（PDT） | G14: 含光敏剂配置、微泵注入药物、激光治疗 | H14: 光敏剂 | I14: 次 | K14: =_xlfn.XLOOKUP($E14,[1]测算表!$V:$V,[1]测算表!AB:AB,,0,1) -> 500 | L14: =_xlfn.XLOOKUP($E14,[1]测算表!$V:$V,[1]测算表!AC:AC,,0,1) -> 449 | M14: =_xlfn.XLOOKUP($E14,[1]测算表!$V:$V,[1]测算表!AD:AD,,0,1) -> 424 | N14: =_xlfn.XLOOKUP($E14,[1]测算表!$V:$V,[1]测算表!AE:AE,,0,1) -> 381 | O14: =_xlfn.XLOOKUP($E14,[1]测算表!$V:$V,[1]测算表!AF:AF,,0,1) -> 304
A15: 12 | B15: E | C15: 433401000280000 | D15: 气浆态臭氧治疗 | E15: 340100028 | F15: 气浆态臭氧治疗 | I15: 次 | K15: =_xlfn.XLOOKUP($E15,[1]测算表!$V:$V,[1]测算表!AB:AB,,0,1) -> 37 | L15: =_xlfn.XLOOKUP($E15,[1]测算表!$V:$V,[1]测算表!AC:AC,,0,1) -> 33 | M15: =_xlfn.XLOOKUP($E15,[1]测算表!$V:$V,[1]测算表!AD:AD,,0,1) -> 31 | N15: =_xlfn.XLOOKUP($E15,[1]测算表!$V:$V,[1]测算表!AE:AE,,0,1) -> 28 | O15: =_xlfn.XLOOKUP($E15,[1]测算表!$V:$V,[1]测算表!AF:AF,,0,1) -> 22
A16: 13 | B16: G | C16: 003313040010000 | D16: 阴道异物取出术 | E16: 331304001 | F16: 阴道异物取出术 | I16: 次 | K16: =_xlfn.XLOOKUP($E16,[1]测算表!$V:$V,[1]测算表!AB:AB,,0,1) -> 299 | L16: =_xlfn.XLOOKUP($E16,[1]测算表!$V:$V,[1]测算表!AC:AC,,0,1) -> 269 | M16: =_xlfn.XLOOKUP($E16,[1]测算表!$V:$V,[1]测算表!AD:AD,,0,1) -> 254 | N16: =_xlfn.XLOOKUP($E16,[1]测算表!$V:$V,[1]测算表!AE:AE,,0,1) -> 229 | O16: =_xlfn.XLOOKUP($E16,[1]测算表!$V:$V,[1]测算表!AF:AF,,0,1) -> 183
A17: 14 | B17: E | C17: 003112010120000 | D17: 子宫托治疗 | E17: 311201012 | F17: 子宫托治疗 | G17: 含配戴、指导 | H17: 子宫托 | I17: 次 | K17: =_xlfn.XLOOKUP($E17,[1]测算表!$V:$V,[1]测算表!AB:AB,,0,1) -> 48 | L17: =_xlfn.XLOOKUP($E17,[1]测算表!$V:$V,[1]测算表!AC:AC,,0,1) -> 43 | M17: =_xlfn.XLOOKUP($E17,[1]测算表!$V:$V,[1]测算表!AD:AD,,0,1) -> 41 | N17: =_xlfn.XLOOKUP($E17,[1]测算表!$V:$V,[1]测算表!AE:AE,,0,1) -> 36 | O17: =_xlfn.XLOOKUP($E17,[1]测算表!$V:$V,[1]测算表!AF:AF,,0,1) -> 28
A18: 15 | B18: E | C18: 003112010070000 | D18: 后穹窿穿刺术 | E18: 311201007 | F18: 后穹窿穿刺术 | G18: 后穹窿注射、阴道肿瘤穿刺术参照执行 | I18: 次 | K18: =_xlfn.XLOOKUP($E18,[1]测算表!$V:$V,[1]测算表!AB:AB,,0,1) -> 36 | L18: =_xlfn.XLOOKUP($E18,[1]测算表!$V:$V,[1]测算表!AC:AC,,0,1) -> 32 | M18: =_xlfn.XLOOKUP($E18,[1]测算表!$V:$V,[1]测算表!AD:AD,,0,1) -> 30 | N18: =_xlfn.XLOOKUP($E18,[1]测算表!$V:$V,[1]测算表!AE:AE,,0,1) -> 27 | O18: =_xlfn.XLOOKUP($E18,[1]测算表!$V:$V,[1]测算表!AF:AF,,0,1) -> 21
A19: 16 | B19: G | C19: 003313010010000 | D19: 经阴道卵巢囊肿穿刺术 | E19: 331301001 | F19: 经阴道卵巢囊肿穿刺术 | G19: 含活检 | I19: 单侧 | J19: △ | K19: =_xlfn.XLOOKUP($E19,[1]测算表!$V:$V,[1]测算表!AB:AB,,0,1) -> 815 | L19: =_xlfn.XLOOKUP($E19,[1]测算表!$V:$V,[1]测算表!AC:AC,,0,1) -> 733 | M19: =_xlfn.XLOOKUP($E19,[1]测算表!$V:$V,[1]测算表!AD:AD,,0,1) -> 692 | N19: =_xlfn.XLOOKUP($E19,[1]测算表!$V:$V,[1]测算表!AE:AE,,0,1) -> 622 | O19: =_xlfn.XLOOKUP($E19,[1]测算表!$V:$V,[1]测算表!AF:AF,,0,1) -> 497
A20: 17 | B20: E | C20: 003112010380000 | D20: B超下卵巢囊肿穿刺术 | E20: 311201038 | F20: B超下卵巢囊肿穿刺术 | I20: 次 | K20: =_xlfn.XLOOKUP($E20,[1]测算表!$V:$V,[1]测算表!AB:AB,,0,1) -> 360 | L20: =_xlfn.XLOOKUP($E20,[1]测算表!$V:$V,[1]测算表!AC:AC,,0,1) -> 323 | M20: =_xlfn.XLOOKUP($E20,[1]测算表!$V:$V,[1]测算表!AD:AD,,0,1) -> 306 | N20: =_xlfn.XLOOKUP($E20,[1]测算表!$V:$V,[1]测算表!AE:AE,,0,1) -> 275 | O20: =_xlfn.XLOOKUP($E20,[1]测算表!$V:$V,[1]测算表!AF:AF,,0,1) -> 218
A21: 18 | E21: 311201071 | F21: 子宫腔内药物灌注治疗 | G21: 通过特殊导管向宫腔注入药物治疗子宫内膜相关疾病，实现改善薄型子宫内膜、子宫内膜炎、因子宫内膜容受性差导致反复种植失败等情况。 所定价格涵盖灌注操作的人力资源和基本物质资源消耗。不含超声引导费用。 | I21: 次 | K21: =_xlfn.XLOOKUP($E21,[1]测算表!$V:$V,[1]测算表!AB:AB,,0,1) -> 120 | L21: =_xlfn.XLOOKUP($E21,[1]测算表!$V:$V,[1]测算表!AC:AC,,0,1) -> 108 | M21: =_xlfn.XLOOKUP($E21,[1]测算表!$V:$V,[1]测算表!AD:AD,,0,1) -> 102 | N21: =_xlfn.XLOOKUP($E21,[1]测算表!$V:$V,[1]测算表!AE:AE,,0,1) -> 0 | O21: =_xlfn.XLOOKUP($E21,[1]测算表!$V:$V,[1]测算表!AF:AF,,0,1) -> 0
A22: 19 | B22: E | C22: 003112010160000 | D22: 子宫内翻复位术 | E22: 311201016 | F22: 子宫内翻复位术 | G22: 指手法复位 | I22: 次 | K22: =_xlfn.XLOOKUP($E22,[1]测算表!$V:$V,[1]测算表!AB:AB,,0,1) -> 未定 | L22: =_xlfn.XLOOKUP($E22,[1]测算表!$V:$V,[1]测算表!AC:AC,,0,1) -> 未定 | M22: =_xlfn.XLOOKUP($E22,[1]测算表!$V:$V,[1]测算表!AD:AD,,0,1) -> 未定 | N22: =_xlfn.XLOOKUP($E22,[1]测算表!$V:$V,[1]测算表!AE:AE,,0,1) -> 未定 | O22: =_xlfn.XLOOKUP($E22,[1]测算表!$V:$V,[1]测算表!AF:AF,,0,1) -> 未定
A23: 20 | B23: G | C23: 003313050110000 | D23: 外阴整形术 | E23: 331305011 | F23: 外阴整形术 | G23: 不含取皮瓣 | I23: 次 | K23: =_xlfn.XLOOKUP($E23,[1]测算表!$V:$V,[1]测算表!AB:AB,,0,1) -> 自主 定价 | L23: =_xlfn.XLOOKUP($E23,[1]测算表!$V:$V,[1]测算表!AC:AC,,0,1) -> 自主 定价 | M23: =_xlfn.XLOOKUP($E23,[1]测算表!$V:$V,[1]测算表!AD:AD,,0,1) -> 自主 定价 | N23: =_xlfn.XLOOKUP($E23,[1]测算表!$V:$V,[1]测算表!AE:AE,,0,1) -> 自主 定价 | O23: =_xlfn.XLOOKUP($E23,[1]测算表!$V:$V,[1]测算表!AF:AF,,0,1) -> 自主 定价
A24: 21 | B24: G | C24: 003313040020000 | D24: 阴道裂伤缝合术 | E24: 331304002 | F24: 阴道裂伤缝合术 | I24: 次 | K24: =_xlfn.XLOOKUP($E24,[1]测算表!$V:$V,[1]测算表!AB:AB,,0,1) -> 448 | L24: =_xlfn.XLOOKUP($E24,[1]测算表!$V:$V,[1]测算表!AC:AC,,0,1) -> 403 | M24: =_xlfn.XLOOKUP($E24,[1]测算表!$V:$V,[1]测算表!AD:AD,,0,1) -> 381 | N24: =_xlfn.XLOOKUP($E24,[1]测算表!$V:$V,[1]测算表!AE:AE,,0,1) -> 343 | O24: =_xlfn.XLOOKUP($E24,[1]测算表!$V:$V,[1]测算表!AF:AF,,0,1) -> 274
A25: 22 | B25: G | C25: 003313040130000 | D25: 后穹窿损伤缝合术 | E25: 331304013 | F25: 后穹窿损伤缝合术 | G25: 阴道后穹窿切开引流参照执行 | I25: 次 | K25: =_xlfn.XLOOKUP($E25,[1]测算表!$V:$V,[1]测算表!AB:AB,,0,1) -> 725 | L25: =_xlfn.XLOOKUP($E25,[1]测算表!$V:$V,[1]测算表!AC:AC,,0,1) -> 653 | M25: =_xlfn.XLOOKUP($E25,[1]测算表!$V:$V,[1]测算表!AD:AD,,0,1) -> 616 | N25: =_xlfn.XLOOKUP($E25,[1]测算表!$V:$V,[1]测算表!AE:AE,,0,1) -> 543 | O25: =_xlfn.XLOOKUP($E25,[1]测算表!$V:$V,[1]测算表!AF:AF,,0,1) -> 434
A26: 23 | B26: G | C26: 003313050010000 | D26: 外阴损伤缝合术 | E26: 331305001 | F26: 外阴损伤缝合术 | G26: 含小阴唇粘连分离术 | I26: 次 | K26: =_xlfn.XLOOKUP($E26,[1]测算表!$V:$V,[1]测算表!AB:AB,,0,1) -> 448 | L26: =_xlfn.XLOOKUP($E26,[1]测算表!$V:$V,[1]测算表!AC:AC,,0,1) -> 403 | M26: =_xlfn.XLOOKUP($E26,[1]测算表!$V:$V,[1]测算表!AD:AD,,0,1) -> 381 | N26: =_xlfn.XLOOKUP($E26,[1]测算表!$V:$V,[1]测算表!AE:AE,,0,1) -> 343 | O26: =_xlfn.XLOOKUP($E26,[1]测算表!$V:$V,[1]测算表!AF:AF,,0,1) -> 274
A27: 24 | B27: G | C27: 003313050020000 | D27: 陈旧性会阴裂伤修补术 | E27: 331305002 | F27: 陈旧性会阴裂伤修补术 | I27: 次 | K27: =_xlfn.XLOOKUP($E27,[1]测算表!$V:$V,[1]测算表!AB:AB,,0,1) -> 583 | L27: =_xlfn.XLOOKUP($E27,[1]测算表!$V:$V,[1]测算表!AC:AC,,0,1) -> 525 | M27: =_xlfn.XLOOKUP($E27,[1]测算表!$V:$V,[1]测算表!AD:AD,,0,1) -> 496 | N27: =_xlfn.XLOOKUP($E27,[1]测算表!$V:$V,[1]测算表!AE:AE,,0,1) -> 435 | O27: =_xlfn.XLOOKUP($E27,[1]测算表!$V:$V,[1]测算表!AF:AF,,0,1) -> 347
A28: 25 | B28: G | C28: 003313040030000 | D28: 阴道扩张术 | E28: 331304003 | F28: 阴道扩张术 | H28: 扩张用模具 | I28: 次 | K28: =_xlfn.XLOOKUP($E28,[1]测算表!$V:$V,[1]测算表!AB:AB,,0,1) -> 299 | L28: =_xlfn.XLOOKUP($E28,[1]测算表!$V:$V,[1]测算表!AC:AC,,0,1) -> 269 | M28: =_xlfn.XLOOKUP($E28,[1]测算表!$V:$V,[1]测算表!AD:AD,,0,1) -> 254 | N28: =_xlfn.XLOOKUP($E28,[1]测算表!$V:$V,[1]测算表!AE:AE,,0,1) -> 229 | O28: =_xlfn.XLOOKUP($E28,[1]测算表!$V:$V,[1]测算表!AF:AF,,0,1) -> 183
A29: 26 | B29: G | C29: 003313050030000 | D29: 陈旧性会阴Ⅲ度裂伤缝合术 | E29: 331305003 | F29: 陈旧性会阴Ⅲ度裂伤缝合术 | G29: 含肛门括约肌及直肠裂伤 | I29: 次 | K29: =_xlfn.XLOOKUP($E29,[1]测算表!$V:$V,[1]测算表!AB:AB,,0,1) -> 1170 | L29: =_xlfn.XLOOKUP($E29,[1]测算表!$V:$V,[1]测算表!AC:AC,,0,1) -> 1053 | M29: =_xlfn.XLOOKUP($E29,[1]测算表!$V:$V,[1]测算表!AD:AD,,0,1) -> 995 | N29: =_xlfn.XLOOKUP($E29,[1]测算表!$V:$V,[1]测算表!AE:AE,,0,1) -> 895 | O29: =_xlfn.XLOOKUP($E29,[1]测算表!$V:$V,[1]测算表!AF:AF,,0,1) -> 715
A30: 27 | B30: G | C30: 003313050040000 | D30: 外阴脓肿切开引流术 | E30: 331305004 | F30: 外阴脓肿切开引流术 | G30: 外阴血肿切开参照执行 | I30: 次 | K30: =_xlfn.XLOOKUP($E30,[1]测算表!$V:$V,[1]测算表!AB:AB,,0,1) -> 299 | L30: =_xlfn.XLOOKUP($E30,[1]测算表!$V:$V,[1]测算表!AC:AC,,0,1) -> 269 | M30: =_xlfn.XLOOKUP($E30,[1]测算表!$V:$V,[1]测算表!AD:AD,,0,1) -> 254 | N30: =_xlfn.XLOOKUP($E30,[1]测算表!$V:$V,[1]测算表!AE:AE,,0,1) -> 229 | O30: =_xlfn.XLOOKUP($E30,[1]测算表!$V:$V,[1]测算表!AF:AF,,0,1) -> 183
A31: 28 | B31: G | C31: 003313040100000 | D31: 阴道壁血肿切开术 | E31: 331304010 | F31: 阴道壁血肿切开术 | I31: 次 | K31: =_xlfn.XLOOKUP($E31,[1]测算表!$V:$V,[1]测算表!AB:AB,,0,1) -> 448 | L31: =_xlfn.XLOOKUP($E31,[1]测算表!$V:$V,[1]测算表!AC:AC,,0,1) -> 403 | M31: =_xlfn.XLOOKUP($E31,[1]测算表!$V:$V,[1]测算表!AD:AD,,0,1) -> 381 | N31: =_xlfn.XLOOKUP($E31,[1]测算表!$V:$V,[1]测算表!AE:AE,,0,1) -> 343 | O31: =_xlfn.XLOOKUP($E31,[1]测算表!$V:$V,[1]测算表!AF:AF,,0,1) -> 274
A32: 29 | B32: G | C32: 003313050120000 | D32: 前庭大腺囊肿造口术 | E32: 331305012 | F32: 前庭大腺囊肿造口术 | G32: 含脓肿切开引流术 | I32: 次 | K32: =_xlfn.XLOOKUP($E32,[1]测算表!$V:$V,[1]测算表!AB:AB,,0,1) -> 448 | L32: =_xlfn.XLOOKUP($E32,[1]测算表!$V:$V,[1]测算表!AC:AC,,0,1) -> 403 | M32: =_xlfn.XLOOKUP($E32,[1]测算表!$V:$V,[1]测算表!AD:AD,,0,1) -> 381 | N32: =_xlfn.XLOOKUP($E32,[1]测算表!$V:$V,[1]测算表!AE:AE,,0,1) -> 343 | O32: =_xlfn.XLOOKUP($E32,[1]测算表!$V:$V,[1]测算表!AF:AF,,0,1) -> 274
A33: 30 | B33: G | C33: 003313050080000 | D33: 单纯性外阴切除术 | E33: 331305008 | F33: 单纯性外阴切除术 | I33: 次 | J33: △ | K33: =_xlfn.XLOOKUP($E33,[1]测算表!$V:$V,[1]测算表!AB:AB,,0,1) -> 1155 | L33: =_xlfn.XLOOKUP($E33,[1]测算表!$V:$V,[1]测算表!AC:AC,,0,1) -> 1040 | M33: =_xlfn.XLOOKUP($E33,[1]测算表!$V:$V,[1]测算表!AD:AD,,0,1) -> 981 | N33: =_xlfn.XLOOKUP($E33,[1]测算表!$V:$V,[1]测算表!AE:AE,,0,1) -> 882 | O33: =_xlfn.XLOOKUP($E33,[1]测算表!$V:$V,[1]测算表!AF:AF,,0,1) -> 705
A34: 31 | B34: G | C34: 003313050050000 | D34: 外阴良性肿物切除术 | E34: 331305005 | F34: 外阴良性肿物切除术 | G34: 肿瘤、囊肿、赘生物等分别参照执行 | I34: 次 | K34: =_xlfn.XLOOKUP($E34,[1]测算表!$V:$V,[1]测算表!AB:AB,,0,1) -> 448 | L34: =_xlfn.XLOOKUP($E34,[1]测算表!$V:$V,[1]测算表!AC:AC,,0,1) -> 403 | M34: =_xlfn.XLOOKUP($E34,[1]测算表!$V:$V,[1]测算表!AD:AD,,0,1) -> 381 | N34: =_xlfn.XLOOKUP($E34,[1]测算表!$V:$V,[1]测算表!AE:AE,,0,1) -> 343 | O34: =_xlfn.XLOOKUP($E34,[1]测算表!$V:$V,[1]测算表!AF:AF,,0,1) -> 274
A35: 32 | B35: G | C35: 003313050130000 | D35: 前庭大腺囊肿切除术 | E35: 331305013 | F35: 前庭大腺囊肿切除术 | I35: 次 | K35: =_xlfn.XLOOKUP($E35,[1]测算表!$V:$V,[1]测算表!AB:AB,,0,1) -> 725 | L35: =_xlfn.XLOOKUP($E35,[1]测算表!$V:$V,[1]测算表!AC:AC,,0,1) -> 653 | M35: =_xlfn.XLOOKUP($E35,[1]测算表!$V:$V,[1]测算表!AD:AD,,0,1) -> 616 | N35: =_xlfn.XLOOKUP($E35,[1]测算表!$V:$V,[1]测算表!AE:AE,,0,1) -> 543 | O35: =_xlfn.XLOOKUP($E35,[1]测算表!$V:$V,[1]测算表!AF:AF,,0,1) -> 434
A36: 33 | B36: G | C36: 003313050090000 | D36: 外阴局部扩大切除术 | E36: 331305009 | F36: 外阴局部扩大切除术 | I36: 次 | J36: △ | K36: =_xlfn.XLOOKUP($E36,[1]测算表!$V:$V,[1]测算表!AB:AB,,0,1) -> 1087 | L36: =_xlfn.XLOOKUP($E36,[1]测算表!$V:$V,[1]测算表!AC:AC,,0,1) -> 978 | M36: =_xlfn.XLOOKUP($E36,[1]测算表!$V:$V,[1]测算表!AD:AD,,0,1) -> 924 | N36: =_xlfn.XLOOKUP($E36,[1]测算表!$V:$V,[1]测算表!AE:AE,,0,1) -> 831 | O36: =_xlfn.XLOOKUP($E36,[1]测算表!$V:$V,[1]测算表!AF:AF,,0,1) -> 664
A37: 34 | B37: G | C37: 003313050100000 | D37: 外阴广泛切除+淋巴结清除术 | E37: 331305010 | F37: 外阴广泛切除+淋巴结清除术 | G37: 含腹股沟淋巴、股深淋巴、盆、腹腔淋巴结清除术。不含特殊引流 | I37: 次 | J37: △ | K37: =_xlfn.XLOOKUP($E37,[1]测算表!$V:$V,[1]测算表!AB:AB,,0,1) -> 2581 | L37: =_xlfn.XLOOKUP($E37,[1]测算表!$V:$V,[1]测算表!AC:AC,,0,1) -> 2322 | M37: =_xlfn.XLOOKUP($E37,[1]测算表!$V:$V,[1]测算表!AD:AD,,0,1) -> 2194 | N37: =_xlfn.XLOOKUP($E37,[1]测算表!$V:$V,[1]测算表!AE:AE,,0,1) -> 1974 | O37: =_xlfn.XLOOKUP($E37,[1]测算表!$V:$V,[1]测算表!AF:AF,,0,1) -> 1579
A38: 35 | B38: G | C38: 003313050060000 | D38: 阴蒂肥大整复术 | E38: 331305006 | F38: 阴蒂肥大整复术 | I38: 次 | K38: =_xlfn.XLOOKUP($E38,[1]测算表!$V:$V,[1]测算表!AB:AB,,0,1) -> 448 | L38: =_xlfn.XLOOKUP($E38,[1]测算表!$V:$V,[1]测算表!AC:AC,,0,1) -> 403 | M38: =_xlfn.XLOOKUP($E38,[1]测算表!$V:$V,[1]测算表!AD:AD,,0,1) -> 380 | N38: =_xlfn.XLOOKUP($E38,[1]测算表!$V:$V,[1]测算表!AE:AE,,0,1) -> 342 | O38: =_xlfn.XLOOKUP($E38,[1]测算表!$V:$V,[1]测算表!AF:AF,,0,1) -> 272
A39: 36 | B39: G | C39: 003313050070000 | D39: 阴蒂短缩成型术 | E39: 331305007 | F39: 阴蒂短缩成型术 | I39: 次 | K39: =_xlfn.XLOOKUP($E39,[1]测算表!$V:$V,[1]测算表!AB:AB,,0,1) -> 653 | L39: =_xlfn.XLOOKUP($E39,[1]测算表!$V:$V,[1]测算表!AC:AC,,0,1) -> 587 | M39: =_xlfn.XLOOKUP($E39,[1]测算表!$V:$V,[1]测算表!AD:AD,,0,1) -> 555 | N39: =_xlfn.XLOOKUP($E39,[1]测算表!$V:$V,[1]测算表!AE:AE,,0,1) -> 488 | O39: =_xlfn.XLOOKUP($E39,[1]测算表!$V:$V,[1]测算表!AF:AF,,0,1) -> 390
A40: 37 | B40: G | C40: 003313050140000 | D40: 处女膜切开术 | E40: 331305014 | F40: 处女膜切开术 | I40: 次 | K40: =_xlfn.XLOOKUP($E40,[1]测算表!$V:$V,[1]测算表!AB:AB,,0,1) -> 224 | L40: =_xlfn.XLOOKUP($E40,[1]测算表!$V:$V,[1]测算表!AC:AC,,0,1) -> 201 | M40: =_xlfn.XLOOKUP($E40,[1]测算表!$V:$V,[1]测算表!AD:AD,,0,1) -> 190 | N40: =_xlfn.XLOOKUP($E40,[1]测算表!$V:$V,[1]测算表!AE:AE,,0,1) -> 170 | O40: =_xlfn.XLOOKUP($E40,[1]测算表!$V:$V,[1]测算表!AF:AF,,0,1) -> 135
A41: 38 | B41: G | C41: 003313050150000 | D41: 处女膜修复术 | E41: 331305015 | F41: 处女膜修复术 | I41: 次 | K41: =_xlfn.XLOOKUP($E41,[1]测算表!$V:$V,[1]测算表!AB:AB,,0,1) -> 自主 定价 | L41: =_xlfn.XLOOKUP($E41,[1]测算表!$V:$V,[1]测算表!AC:AC,,0,1) -> 自主 定价 | M41: =_xlfn.XLOOKUP($E41,[1]测算表!$V:$V,[1]测算表!AD:AD,,0,1) -> 自主 定价 | N41: =_xlfn.XLOOKUP($E41,[1]测算表!$V:$V,[1]测算表!AE:AE,,0,1) -> 自主 定价 | O41: =_xlfn.XLOOKUP($E41,[1]测算表!$V:$V,[1]测算表!AF:AF,,0,1) -> 自主 定价
A42: 39 | B42: G | C42: 003313040150000 | D42: 全阴道切除术 | E42: 331304015 | F42: 全阴道切除术 | G42: 阴道部分切除参照执行 | I42: 次 | J42: * | K42: =_xlfn.XLOOKUP($E42,[1]测算表!$V:$V,[1]测算表!AB:AB,,0,1) -> 2024 | L42: =_xlfn.XLOOKUP($E42,[1]测算表!$V:$V,[1]测算表!AC:AC,,0,1) -> 1821 | M42: =_xlfn.XLOOKUP($E42,[1]测算表!$V:$V,[1]测算表!AD:AD,,0,1) -> 1720 | N42: =_xlfn.XLOOKUP($E42,[1]测算表!$V:$V,[1]测算表!AE:AE,,0,1) -> 1547 | O42: =_xlfn.XLOOKUP($E42,[1]测算表!$V:$V,[1]测算表!AF:AF,,0,1) -> 1236
A43: 40 | B43: G | C43: 003313040040000 | D43: 阴道疤痕切除术 | E43: 331304004 | F43: 阴道疤痕切除术 | H43: 扩张用模具 | I43: 次 | K43: =_xlfn.XLOOKUP($E43,[1]测算表!$V:$V,[1]测算表!AB:AB,,0,1) -> 448 | L43: =_xlfn.XLOOKUP($E43,[1]测算表!$V:$V,[1]测算表!AC:AC,,0,1) -> 403 | M43: =_xlfn.XLOOKUP($E43,[1]测算表!$V:$V,[1]测算表!AD:AD,,0,1) -> 381 | N43: =_xlfn.XLOOKUP($E43,[1]测算表!$V:$V,[1]测算表!AE:AE,,0,1) -> 342 | O43: =_xlfn.XLOOKUP($E43,[1]测算表!$V:$V,[1]测算表!AF:AF,,0,1) -> 272
A44: 41 | B44: G | C44: 003313040070000 | D44: 阴道良性肿物切除术 | E44: 331304007 | F44: 阴道良性肿物切除术 | G44: 阴道结节或阴道囊肿切除分别参照执行 | I44: 次 | K44: =_xlfn.XLOOKUP($E44,[1]测算表!$V:$V,[1]测算表!AB:AB,,0,1) -> 299 | L44: =_xlfn.XLOOKUP($E44,[1]测算表!$V:$V,[1]测算表!AC:AC,,0,1) -> 269 | M44: =_xlfn.XLOOKUP($E44,[1]测算表!$V:$V,[1]测算表!AD:AD,,0,1) -> 254 | N44: =_xlfn.XLOOKUP($E44,[1]测算表!$V:$V,[1]测算表!AE:AE,,0,1) -> 229 | O44: =_xlfn.XLOOKUP($E44,[1]测算表!$V:$V,[1]测算表!AF:AF,,0,1) -> 183
A45: 42 | B45: G | C45: 003313040110000 | D45: 阴道前后壁修补术 | E45: 331304011 | F45: 阴道前后壁修补术 | I45: 次 | J45: △ | K45: =_xlfn.XLOOKUP($E45,[1]测算表!$V:$V,[1]测算表!AB:AB,,0,1) -> 1087 | L45: =_xlfn.XLOOKUP($E45,[1]测算表!$V:$V,[1]测算表!AC:AC,,0,1) -> 978 | M45: =_xlfn.XLOOKUP($E45,[1]测算表!$V:$V,[1]测算表!AD:AD,,0,1) -> 924 | N45: =_xlfn.XLOOKUP($E45,[1]测算表!$V:$V,[1]测算表!AE:AE,,0,1) -> 831 | O45: =_xlfn.XLOOKUP($E45,[1]测算表!$V:$V,[1]测算表!AF:AF,,0,1) -> 664
A46: 43 | B46: G | C46: 003313040090000 | D46: 阴道直肠瘘修补术 | E46: 331304009 | F46: 阴道直肠瘘修补术 | I46: 次 | J46: * | K46: =_xlfn.XLOOKUP($E46,[1]测算表!$V:$V,[1]测算表!AB:AB,,0,1) -> 1556 | L46: =_xlfn.XLOOKUP($E46,[1]测算表!$V:$V,[1]测算表!AC:AC,,0,1) -> 1400 | M46: =_xlfn.XLOOKUP($E46,[1]测算表!$V:$V,[1]测算表!AD:AD,,0,1) -> 1322 | N46: =_xlfn.XLOOKUP($E46,[1]测算表!$V:$V,[1]测算表!AE:AE,,0,1) -> 1189 | O46: =_xlfn.XLOOKUP($E46,[1]测算表!$V:$V,[1]测算表!AF:AF,,0,1) -> 950
A47: 44 | B47: G | C47: 003311030190000 | D47: 膀胱阴道瘘修补术 | E47: 331103019 | F47: 膀胱阴道瘘修补术 | G47: 临床有腹腔镜加收 | I47: 次 | J47: * | K47: =_xlfn.XLOOKUP($E47,[1]测算表!$V:$V,[1]测算表!AB:AB,,0,1) -> 2335 | L47: =_xlfn.XLOOKUP($E47,[1]测算表!$V:$V,[1]测算表!AC:AC,,0,1) -> 2101 | M47: =_xlfn.XLOOKUP($E47,[1]测算表!$V:$V,[1]测算表!AD:AD,,0,1) -> 1985 | N47: =_xlfn.XLOOKUP($E47,[1]测算表!$V:$V,[1]测算表!AE:AE,,0,1) -> 1786 | O47: =_xlfn.XLOOKUP($E47,[1]测算表!$V:$V,[1]测算表!AF:AF,,0,1) -> 1427
A48: 45 | B48: G | C48: 003311040140000 | D48: 尿道阴道瘘修补术 | E48: 331104014 | F48: 尿道阴道瘘修补术 | I48: 次 | J48: * | K48: =_xlfn.XLOOKUP($E48,[1]测算表!$V:$V,[1]测算表!AB:AB,,0,1) -> 2178 | L48: =_xlfn.XLOOKUP($E48,[1]测算表!$V:$V,[1]测算表!AC:AC,,0,1) -> 1960 | M48: =_xlfn.XLOOKUP($E48,[1]测算表!$V:$V,[1]测算表!AD:AD,,0,1) -> 1851 | N48: =_xlfn.XLOOKUP($E48,[1]测算表!$V:$V,[1]测算表!AE:AE,,0,1) -> 1665 | O48: =_xlfn.XLOOKUP($E48,[1]测算表!$V:$V,[1]测算表!AF:AF,,0,1) -> 1331
A49: 46 | B49: G | C49: 003310040280000 | D49: 尾路肛门成形术 | E49: 331004028 | F49: 尾路肛门成形术（直肠阴道瘘修补） | G49: 经直肠直肠尿道瘘修补、直肠阴道瘘修补分别参照执行。不含膀胱造瘘 | H49: 支架 | I49: 次 | J49: △ | K49: =_xlfn.XLOOKUP($E49,[1]测算表!$V:$V,[1]测算表!AB:AB,,0,1) -> 1766 | L49: =_xlfn.XLOOKUP($E49,[1]测算表!$V:$V,[1]测算表!AC:AC,,0,1) -> 1589 | M49: =_xlfn.XLOOKUP($E49,[1]测算表!$V:$V,[1]测算表!AD:AD,,0,1) -> 1501 | N49: =_xlfn.XLOOKUP($E49,[1]测算表!$V:$V,[1]测算表!AE:AE,,0,1) -> 1350 | O49: =_xlfn.XLOOKUP($E49,[1]测算表!$V:$V,[1]测算表!AF:AF,,0,1) -> 1079
A50: 47 | B50: G | C50: 003313040060000 | D50: 阴道闭锁切开术 | E50: 331304006 | F50: 阴道闭锁切开术 | G50: 不含植皮 | H50: 扩张用模具 | I50: 次 | K50: =_xlfn.XLOOKUP($E50,[1]测算表!$V:$V,[1]测算表!AB:AB,,0,1) -> 725 | L50: =_xlfn.XLOOKUP($E50,[1]测算表!$V:$V,[1]测算表!AC:AC,,0,1) -> 652 | M50: =_xlfn.XLOOKUP($E50,[1]测算表!$V:$V,[1]测算表!AD:AD,,0,1) -> 616 | N50: =_xlfn.XLOOKUP($E50,[1]测算表!$V:$V,[1]测算表!AE:AE,,0,1) -> 543 | O50: =_xlfn.XLOOKUP($E50,[1]测算表!$V:$V,[1]测算表!AF:AF,,0,1) -> 434
A51: 48 | B51: G | C51: 003313040080000 | D51: 阴道成形术 | E51: 331304008 | F51: 阴道成形术 | G51: 不含植皮、取乙状结肠(代阴道)等所有组织瓣切取 | I51: 次 | J51: * | K51: =_xlfn.XLOOKUP($E51,[1]测算表!$V:$V,[1]测算表!AB:AB,,0,1) -> 1556 | L51: =_xlfn.XLOOKUP($E51,[1]测算表!$V:$V,[1]测算表!AC:AC,,0,1) -> 1400 | M51: =_xlfn.XLOOKUP($E51,[1]测算表!$V:$V,[1]测算表!AD:AD,,0,1) -> 1323 | N51: =_xlfn.XLOOKUP($E51,[1]测算表!$V:$V,[1]测算表!AE:AE,,0,1) -> 1190 | O51: =_xlfn.XLOOKUP($E51,[1]测算表!$V:$V,[1]测算表!AF:AF,,0,1) -> 950
A52: 49 | B52: G | C52: 003313040120000 | D52: 阴道中隔成形术 | E52: 331304012 | F52: 阴道中隔成形术 | I52: 次 | K52: =_xlfn.XLOOKUP($E52,[1]测算表!$V:$V,[1]测算表!AB:AB,,0,1) -> 583 | L52: =_xlfn.XLOOKUP($E52,[1]测算表!$V:$V,[1]测算表!AC:AC,,0,1) -> 524 | M52: =_xlfn.XLOOKUP($E52,[1]测算表!$V:$V,[1]测算表!AD:AD,,0,1) -> 496 | N52: =_xlfn.XLOOKUP($E52,[1]测算表!$V:$V,[1]测算表!AE:AE,,0,1) -> 435 | O52: =_xlfn.XLOOKUP($E52,[1]测算表!$V:$V,[1]测算表!AF:AF,,0,1) -> 346
A53: 50 | B53: G | C53: 003313040050000 | D53: 阴道横纵膈切开术 | E53: 331304005 | F53: 阴道横纵膈切开术 | I53: 次 | K53: =_xlfn.XLOOKUP($E53,[1]测算表!$V:$V,[1]测算表!AB:AB,,0,1) -> 725 | L53: =_xlfn.XLOOKUP($E53,[1]测算表!$V:$V,[1]测算表!AC:AC,,0,1) -> 653 | M53: =_xlfn.XLOOKUP($E53,[1]测算表!$V:$V,[1]测算表!AD:AD,,0,1) -> 616 | N53: =_xlfn.XLOOKUP($E53,[1]测算表!$V:$V,[1]测算表!AE:AE,,0,1) -> 543 | O53: =_xlfn.XLOOKUP($E53,[1]测算表!$V:$V,[1]测算表!AF:AF,,0,1) -> 434
A54: 51 | B54: G | C54: 003313040140000 | D54: 阴道缩紧术 | E54: 331304014 | F54: 阴道缩紧术 | I54: 次 | K54: =_xlfn.XLOOKUP($E54,[1]测算表!$V:$V,[1]测算表!AB:AB,,0,1) -> 自主 定价 | L54: =_xlfn.XLOOKUP($E54,[1]测算表!$V:$V,[1]测算表!AC:AC,,0,1) -> 自主 定价 | M54: =_xlfn.XLOOKUP($E54,[1]测算表!$V:$V,[1]测算表!AD:AD,,0,1) -> 自主 定价 | N54: =_xlfn.XLOOKUP($E54,[1]测算表!$V:$V,[1]测算表!AE:AE,,0,1) -> 自主 定价 | O54: =_xlfn.XLOOKUP($E54,[1]测算表!$V:$V,[1]测算表!AF:AF,,0,1) -> 自主 定价
A55: 52 | B55: G | C55: 003313030060000 | D55: 非孕期子宫内口矫正术 | E55: 331303006 | F55: 非孕期子宫内口矫正术 | I55: 次 | K55: =_xlfn.XLOOKUP($E55,[1]测算表!$V:$V,[1]测算表!AB:AB,,0,1) -> 未定 | L55: =_xlfn.XLOOKUP($E55,[1]测算表!$V:$V,[1]测算表!AC:AC,,0,1) -> 未定 | M55: =_xlfn.XLOOKUP($E55,[1]测算表!$V:$V,[1]测算表!AD:AD,,0,1) -> 未定 | N55: =_xlfn.XLOOKUP($E55,[1]测算表!$V:$V,[1]测算表!AE:AE,,0,1) -> 未定 | O55: =_xlfn.XLOOKUP($E55,[1]测算表!$V:$V,[1]测算表!AF:AF,,0,1) -> 未定
A56: 53 | B56: G | C56: 003313030030000 | D56: 宫颈残端切除术 | E56: 331303003 | F56: 宫颈残端切除术 | G56: 指经腹手术 | I56: 次 | J56: △ | K56: =_xlfn.XLOOKUP($E56,[1]测算表!$V:$V,[1]测算表!AB:AB,,0,1) -> 1359 | L56: =_xlfn.XLOOKUP($E56,[1]测算表!$V:$V,[1]测算表!AC:AC,,0,1) -> 1223 | M56: =_xlfn.XLOOKUP($E56,[1]测算表!$V:$V,[1]测算表!AD:AD,,0,1) -> 1155 | N56: =_xlfn.XLOOKUP($E56,[1]测算表!$V:$V,[1]测算表!AE:AE,,0,1) -> 1039 | O56: =_xlfn.XLOOKUP($E56,[1]测算表!$V:$V,[1]测算表!AF:AF,,0,1) -> 830
A57: 54 | B57: G | C57: 003313030090000 | D57: 子宫颈截除术 | E57: 331303009 | F57: 子宫颈截除术 | I57: 次 | K57: =_xlfn.XLOOKUP($E57,[1]测算表!$V:$V,[1]测算表!AB:AB,,0,1) -> 910 | L57: =_xlfn.XLOOKUP($E57,[1]测算表!$V:$V,[1]测算表!AC:AC,,0,1) -> 819 | M57: =_xlfn.XLOOKUP($E57,[1]测算表!$V:$V,[1]测算表!AD:AD,,0,1) -> 774 | N57: =_xlfn.XLOOKUP($E57,[1]测算表!$V:$V,[1]测算表!AE:AE,,0,1) -> 696 | O57: =_xlfn.XLOOKUP($E57,[1]测算表!$V:$V,[1]测算表!AF:AF,,0,1) -> 556
A58: 55 | B58: G | C58: 003313030040000 | D58: 宫颈锥形切除术 | E58: 331303004 | F58: 宫颈锥形切除术 | I58: 次 | J58: △ | K58: =_xlfn.XLOOKUP($E58,[1]测算表!$V:$V,[1]测算表!AB:AB,,0,1) -> 781 | L58: =_xlfn.XLOOKUP($E58,[1]测算表!$V:$V,[1]测算表!AC:AC,,0,1) -> 703 | M58: =_xlfn.XLOOKUP($E58,[1]测算表!$V:$V,[1]测算表!AD:AD,,0,1) -> 664 | N58: =_xlfn.XLOOKUP($E58,[1]测算表!$V:$V,[1]测算表!AE:AE,,0,1) -> 597 | O58: =_xlfn.XLOOKUP($E58,[1]测算表!$V:$V,[1]测算表!AF:AF,,0,1) -> 478
A59: 56 | B59: G | C59: 003313030050000 | D59: 宫颈环形电切术 | E59: 331303005 | F59: 宫颈环形电切术 | I59: 次 | K59: =_xlfn.XLOOKUP($E59,[1]测算表!$V:$V,[1]测算表!AB:AB,,0,1) -> 730 | L59: =_xlfn.XLOOKUP($E59,[1]测算表!$V:$V,[1]测算表!AC:AC,,0,1) -> 657 | M59: =_xlfn.XLOOKUP($E59,[1]测算表!$V:$V,[1]测算表!AD:AD,,0,1) -> 621 | N59: =_xlfn.XLOOKUP($E59,[1]测算表!$V:$V,[1]测算表!AE:AE,,0,1) -> 543 | O59: =_xlfn.XLOOKUP($E59,[1]测算表!$V:$V,[1]测算表!AF:AF,,0,1) -> 434
A60: 57 | B60: G | C60: 003313030280000 | D60: 根治性宫颈切除术 | E60: 331303028 | F60: 根治性宫颈切除术 | G60: 指经阴道。含盆腔淋巴结清扫、卵巢动静脉高位结扎术 | I60: 次 | J60: 经腹、经腹膜外加收100%* | K60: =_xlfn.XLOOKUP($E60,[1]测算表!$V:$V,[1]测算表!AB:AB,,0,1) -> 1556 | L60: =_xlfn.XLOOKUP($E60,[1]测算表!$V:$V,[1]测算表!AC:AC,,0,1) -> 1400 | M60: =_xlfn.XLOOKUP($E60,[1]测算表!$V:$V,[1]测算表!AD:AD,,0,1) -> 1323 | N60: =_xlfn.XLOOKUP($E60,[1]测算表!$V:$V,[1]测算表!AE:AE,,0,1) -> 1190 | O60: =_xlfn.XLOOKUP($E60,[1]测算表!$V:$V,[1]测算表!AF:AF,,0,1) -> 950
A61: 58 | B61: G | C61: 003309000060000 | D61: 经腹腔镜盆腔淋巴结清扫术 | E61: 330900006 | F61: 经腹腔镜盆腔淋巴结清扫术 | G61: 含区域淋巴结切除 | I61: 次 | K61: =_xlfn.XLOOKUP($E61,[1]测算表!$V:$V,[1]测算表!AB:AB,,0,1) -> 2317 | L61: =_xlfn.XLOOKUP($E61,[1]测算表!$V:$V,[1]测算表!AC:AC,,0,1) -> 2085 | M61: =_xlfn.XLOOKUP($E61,[1]测算表!$V:$V,[1]测算表!AD:AD,,0,1) -> 1969 | N61: =_xlfn.XLOOKUP($E61,[1]测算表!$V:$V,[1]测算表!AE:AE,,0,1) -> 1773 | O61: =_xlfn.XLOOKUP($E61,[1]测算表!$V:$V,[1]测算表!AF:AF,,0,1) -> 1418
A62: 59 | B62: G | C62: 003313030020000 | D62: 宫颈肌瘤剔除术 | E62: 331303002 | F62: 宫颈肌瘤剔除术 | G62: 指经腹手术 | I62: 次 | J62: △ | K62: =_xlfn.XLOOKUP($E62,[1]测算表!$V:$V,[1]测算表!AB:AB,,0,1) -> 1630 | L62: =_xlfn.XLOOKUP($E62,[1]测算表!$V:$V,[1]测算表!AC:AC,,0,1) -> 1467 | M62: =_xlfn.XLOOKUP($E62,[1]测算表!$V:$V,[1]测算表!AD:AD,,0,1) -> 1386 | N62: =_xlfn.XLOOKUP($E62,[1]测算表!$V:$V,[1]测算表!AE:AE,,0,1) -> 1247 | O62: =_xlfn.XLOOKUP($E62,[1]测算表!$V:$V,[1]测算表!AF:AF,,0,1) -> 997
A63: 60 | B63: E | C63: 003112010530000 | D63: 人工流产术 | E63: 311201053 | F63: 人工流产术 | G63: 旋动式人工流产术、直视人工流产术参照执行 | H63: 一次性吸引管，一次性旋流环 | I63: 次 | J63: 畸形子宫、疤痕子宫、哺乳期子宫加收50%、钳刮术加收100%。内窥镜加收200元 | K63: =_xlfn.XLOOKUP($E63,[1]测算表!$V:$V,[1]测算表!AB:AB,,0,1) -> 180 | L63: =_xlfn.XLOOKUP($E63,[1]测算表!$V:$V,[1]测算表!AC:AC,,0,1) -> 162 | M63: =_xlfn.XLOOKUP($E63,[1]测算表!$V:$V,[1]测算表!AD:AD,,0,1) -> 153 | N63: =_xlfn.XLOOKUP($E63,[1]测算表!$V:$V,[1]测算表!AE:AE,,0,1) -> 138 | O63: =_xlfn.XLOOKUP($E63,[1]测算表!$V:$V,[1]测算表!AF:AF,,0,1) -> 110
A64: 61 | B64: E | C64: 003112010520000 | D64: 葡萄胎刮宫术 | E64: 311201052 | F64: 葡萄胎刮宫术 | I64: 次 | K64: =_xlfn.XLOOKUP($E64,[1]测算表!$V:$V,[1]测算表!AB:AB,,0,1) -> 240 | L64: =_xlfn.XLOOKUP($E64,[1]测算表!$V:$V,[1]测算表!AC:AC,,0,1) -> 216 | M64: =_xlfn.XLOOKUP($E64,[1]测算表!$V:$V,[1]测算表!AD:AD,,0,1) -> 204 | N64: =_xlfn.XLOOKUP($E64,[1]测算表!$V:$V,[1]测算表!AE:AE,,0,1) -> 183 | O64: =_xlfn.XLOOKUP($E64,[1]测算表!$V:$V,[1]测算表!AF:AF,,0,1) -> 146
A65: 62 | B65: E | C65: 003112010510000 | D65: 产后刮宫术 | E65: 311201051 | F65: 产后刮宫术 | I65: 次 | K65: =_xlfn.XLOOKUP($E65,[1]测算表!$V:$V,[1]测算表!AB:AB,,0,1) -> 198 | L65: =_xlfn.XLOOKUP($E65,[1]测算表!$V:$V,[1]测算表!AC:AC,,0,1) -> 178 | M65: =_xlfn.XLOOKUP($E65,[1]测算表!$V:$V,[1]测算表!AD:AD,,0,1) -> 168 | N65: =_xlfn.XLOOKUP($E65,[1]测算表!$V:$V,[1]测算表!AE:AE,,0,1) -> 151 | O65: =_xlfn.XLOOKUP($E65,[1]测算表!$V:$V,[1]测算表!AF:AF,,0,1) -> 121
A66: 63 | B66: E | C66: 003112010170000 | D66: 宫腔吸片 | E66: 311201017 | F66: 宫腔吸片 | I66: 次 | K66: =_xlfn.XLOOKUP($E66,[1]测算表!$V:$V,[1]测算表!AB:AB,,0,1) -> 22 | L66: =_xlfn.XLOOKUP($E66,[1]测算表!$V:$V,[1]测算表!AC:AC,,0,1) -> 19 | M66: =_xlfn.XLOOKUP($E66,[1]测算表!$V:$V,[1]测算表!AD:AD,,0,1) -> 18 | N66: =_xlfn.XLOOKUP($E66,[1]测算表!$V:$V,[1]测算表!AE:AE,,0,1) -> 16 | O66: =_xlfn.XLOOKUP($E66,[1]测算表!$V:$V,[1]测算表!AF:AF,,0,1) -> 12
A67: 64 | B67: G | C67: 003112010500000 | D67: 刮宫术 | E67: 331306011 | F67: 宫腔组织吸引术 | H67: 一次性组织切除装置 | I67: 次 | K67: =_xlfn.XLOOKUP($E67,[1]测算表!$V:$V,[1]测算表!AB:AB,,0,1) -> 650 | L67: =_xlfn.XLOOKUP($E67,[1]测算表!$V:$V,[1]测算表!AC:AC,,0,1) -> 585 | M67: =_xlfn.XLOOKUP($E67,[1]测算表!$V:$V,[1]测算表!AD:AD,,0,1) -> 553 | N67: =_xlfn.XLOOKUP($E67,[1]测算表!$V:$V,[1]测算表!AE:AE,,0,1) -> 497 | O67: =_xlfn.XLOOKUP($E67,[1]测算表!$V:$V,[1]测算表!AF:AF,,0,1) -> 397
A68: 65 | B68: G | C68: 003112010500000 | D68: 刮宫术 | E68: 311201050 | F68: 刮宫术 | G68: 含常规刮宫；分段诊断性刮宫参照执行；不含产后刮宫、葡萄胎刮宫 | I68: 次 | K68: =_xlfn.XLOOKUP($E68,[1]测算表!$V:$V,[1]测算表!AB:AB,,0,1) -> 105 | L68: =_xlfn.XLOOKUP($E68,[1]测算表!$V:$V,[1]测算表!AC:AC,,0,1) -> 95 | M68: =_xlfn.XLOOKUP($E68,[1]测算表!$V:$V,[1]测算表!AD:AD,,0,1) -> 90 | N68: =_xlfn.XLOOKUP($E68,[1]测算表!$V:$V,[1]测算表!AE:AE,,0,1) -> 80 | O68: =_xlfn.XLOOKUP($E68,[1]测算表!$V:$V,[1]测算表!AF:AF,,0,1) -> 64
A69: 66 | B69: G | C69: 003313060070000 | D69: 经宫腔镜子宫纵隔切除术 | E69: 331306007 | F69: 经宫腔镜子宫纵隔切除术 | G69: 不含术中B超监视；经宫腔镜宫腔粘连电切术、经宫腔镜妊娠残留物电切术参照执行。 | I69: 次 | J69: 腹腔镜辅助手术加收200元 △ | K69: =_xlfn.XLOOKUP($E69,[1]测算表!$V:$V,[1]测算表!AB:AB,,0,1) -> 1766 | L69: =_xlfn.XLOOKUP($E69,[1]测算表!$V:$V,[1]测算表!AC:AC,,0,1) -> 1589 | M69: =_xlfn.XLOOKUP($E69,[1]测算表!$V:$V,[1]测算表!AD:AD,,0,1) -> 1501 | N69: =_xlfn.XLOOKUP($E69,[1]测算表!$V:$V,[1]测算表!AE:AE,,0,1) -> 1350 | O69: =_xlfn.XLOOKUP($E69,[1]测算表!$V:$V,[1]测算表!AF:AF,,0,1) -> 1079
A70: 67 | B70: E | C70: 003112010180000 | D70: 宫腔粘连分离术 | E70: 311201018 | F70: 宫腔粘连分离术 | I70: 次 | K70: =_xlfn.XLOOKUP($E70,[1]测算表!$V:$V,[1]测算表!AB:AB,,0,1) -> 105 | L70: =_xlfn.XLOOKUP($E70,[1]测算表!$V:$V,[1]测算表!AC:AC,,0,1) -> 95 | M70: =_xlfn.XLOOKUP($E70,[1]测算表!$V:$V,[1]测算表!AD:AD,,0,1) -> 89 | N70: =_xlfn.XLOOKUP($E70,[1]测算表!$V:$V,[1]测算表!AE:AE,,0,1) -> 80 | O70: =_xlfn.XLOOKUP($E70,[1]测算表!$V:$V,[1]测算表!AF:AF,,0,1) -> 63
A71: 68 | B71: G | C71: 003313060040000 | D71: 经宫腔镜取环术 | E71: 331306004 | F71: 经宫腔镜取环术 | G71: 经宫腔镜宫腔内异物取出术参照执行；不含术中B超监视 | I71: 次 | J71: 环嵌顿或环残留取环术加收100元。腹腔镜辅助手术加收200元 | K71: =_xlfn.XLOOKUP($E71,[1]测算表!$V:$V,[1]测算表!AB:AB,,0,1) -> 583 | L71: =_xlfn.XLOOKUP($E71,[1]测算表!$V:$V,[1]测算表!AC:AC,,0,1) -> 525 | M71: =_xlfn.XLOOKUP($E71,[1]测算表!$V:$V,[1]测算表!AD:AD,,0,1) -> 496 | N71: =_xlfn.XLOOKUP($E71,[1]测算表!$V:$V,[1]测算表!AE:AE,,0,1) -> 435 | O71: =_xlfn.XLOOKUP($E71,[1]测算表!$V:$V,[1]测算表!AF:AF,,0,1) -> 348
A72: 69 | B72: G | C72: 003313030200000 | D72: 开腹取环术 | E72: 331303020 | F72: 开腹取环术 | I72: 次 | K72: =_xlfn.XLOOKUP($E72,[1]测算表!$V:$V,[1]测算表!AB:AB,,0,1) -> 730 | L72: =_xlfn.XLOOKUP($E72,[1]测算表!$V:$V,[1]测算表!AC:AC,,0,1) -> 657 | M72: =_xlfn.XLOOKUP($E72,[1]测算表!$V:$V,[1]测算表!AD:AD,,0,1) -> 621 | N72: =_xlfn.XLOOKUP($E72,[1]测算表!$V:$V,[1]测算表!AE:AE,,0,1) -> 543 | O72: =_xlfn.XLOOKUP($E72,[1]测算表!$V:$V,[1]测算表!AF:AF,,0,1) -> 434
A73: 70 | B73: E | C73: 003112010480000 | D73: 宫内节育器放置术 | E73: 311201048 | F73: 宫内节育器放置术 | G73: 取出术参照执行 | I73: 次 | J73: 双子宫上环加收50% | K73: =_xlfn.XLOOKUP($E73,[1]测算表!$V:$V,[1]测算表!AB:AB,,0,1) -> 79 | L73: =_xlfn.XLOOKUP($E73,[1]测算表!$V:$V,[1]测算表!AC:AC,,0,1) -> 71 | M73: =_xlfn.XLOOKUP($E73,[1]测算表!$V:$V,[1]测算表!AD:AD,,0,1) -> 67 | N73: =_xlfn.XLOOKUP($E73,[1]测算表!$V:$V,[1]测算表!AE:AE,,0,1) -> 60 | O73: =_xlfn.XLOOKUP($E73,[1]测算表!$V:$V,[1]测算表!AF:AF,,0,1) -> 48
A74: 71 | B74: G | C74: 003313030210000 | D74: 经腹腔镜取环术 | E74: 331303021 | F74: 经腹腔镜取环术 | I74: 次 | J74: △ | K74: =_xlfn.XLOOKUP($E74,[1]测算表!$V:$V,[1]测算表!AB:AB,,0,1) -> 815 | L74: =_xlfn.XLOOKUP($E74,[1]测算表!$V:$V,[1]测算表!AC:AC,,0,1) -> 733 | M74: =_xlfn.XLOOKUP($E74,[1]测算表!$V:$V,[1]测算表!AD:AD,,0,1) -> 693 | N74: =_xlfn.XLOOKUP($E74,[1]测算表!$V:$V,[1]测算表!AE:AE,,0,1) -> 623 | O74: =_xlfn.XLOOKUP($E74,[1]测算表!$V:$V,[1]测算表!AF:AF,,0,1) -> 498
A75: 72 | B75: E | C75: 003112010130000 | D75: 子宫内膜活检术 | E75: 311201013 | F75: 子宫内膜活检术 | H75: 一次性采集器 | I75: 次 | K75: =_xlfn.XLOOKUP($E75,[1]测算表!$V:$V,[1]测算表!AB:AB,,0,1) -> 36 | L75: =_xlfn.XLOOKUP($E75,[1]测算表!$V:$V,[1]测算表!AC:AC,,0,1) -> 32 | M75: =_xlfn.XLOOKUP($E75,[1]测算表!$V:$V,[1]测算表!AD:AD,,0,1) -> 30 | N75: =_xlfn.XLOOKUP($E75,[1]测算表!$V:$V,[1]测算表!AE:AE,,0,1) -> 27 | O75: =_xlfn.XLOOKUP($E75,[1]测算表!$V:$V,[1]测算表!AF:AF,,0,1) -> 21
A76: 73 | B76: E | C76: 003112010080000 | D76: 宫颈活检术 | E76: 311201008 | F76: 宫颈活检术 | G76: 阴道壁活检及阴道囊肿穿刺术参照执行 | I76: 次 | J76: 6周岁及以下儿童在相应价格基础上加收30%。 | K76: =_xlfn.XLOOKUP($E76,[1]测算表!$V:$V,[1]测算表!AB:AB,,0,1) -> 36 | L76: =_xlfn.XLOOKUP($E76,[1]测算表!$V:$V,[1]测算表!AC:AC,,0,1) -> 32 | M76: =_xlfn.XLOOKUP($E76,[1]测算表!$V:$V,[1]测算表!AD:AD,,0,1) -> 31 | N76: =_xlfn.XLOOKUP($E76,[1]测算表!$V:$V,[1]测算表!AE:AE,,0,1) -> 28 | O76: =_xlfn.XLOOKUP($E76,[1]测算表!$V:$V,[1]测算表!AF:AF,,0,1) -> 22
A77: 74 | B77: G | C77: 003313030270000 | D77: 热球子宫内膜去除术 | E77: 331303027 | F77: 热球子宫内膜去除术 | G77: 电凝术参照执行 | H77: 热球导管 | I77: 次 | K77: =_xlfn.XLOOKUP($E77,[1]测算表!$V:$V,[1]测算表!AB:AB,,0,1) -> 867 | L77: =_xlfn.XLOOKUP($E77,[1]测算表!$V:$V,[1]测算表!AC:AC,,0,1) -> 780 | M77: =_xlfn.XLOOKUP($E77,[1]测算表!$V:$V,[1]测算表!AD:AD,,0,1) -> 737 | N77: =_xlfn.XLOOKUP($E77,[1]测算表!$V:$V,[1]测算表!AE:AE,,0,1) -> 652 | O77: =_xlfn.XLOOKUP($E77,[1]测算表!$V:$V,[1]测算表!AF:AF,,0,1) -> 520
A78: 75 | B78: G | C78: 003313060090000 | D78: 经宫腔镜子宫内膜剥离术 | E78: 331306009 | F78: 经宫腔镜子宫内膜剥离术 | G78: 不含术中B超监视；经宫腔镜子宫内膜息肉电切术、经宫腔镜子宫内膜电切术、经宫腔镜子宫赘生物电切术参照执行。 | I78: 次 | J78: 腹腔镜辅助手术加收200元 △ | K78: =_xlfn.XLOOKUP($E78,[1]测算表!$V:$V,[1]测算表!AB:AB,,0,1) -> 1766 | L78: =_xlfn.XLOOKUP($E78,[1]测算表!$V:$V,[1]测算表!AC:AC,,0,1) -> 1589 | M78: =_xlfn.XLOOKUP($E78,[1]测算表!$V:$V,[1]测算表!AD:AD,,0,1) -> 1501 | N78: =_xlfn.XLOOKUP($E78,[1]测算表!$V:$V,[1]测算表!AE:AE,,0,1) -> 1350 | O78: =_xlfn.XLOOKUP($E78,[1]测算表!$V:$V,[1]测算表!AF:AF,,0,1) -> 1079
A79: 76 | B79: G | C79: 003313030270000 | D79: 热球子宫内膜去除术 | E79: 331303031 | F79: 阻抗控制子宫内膜切除术 | H79: 一次性双极消融器 | I79: 次 | K79: =_xlfn.XLOOKUP($E79,[1]测算表!$V:$V,[1]测算表!AB:AB,,0,1) -> 1300 | L79: =_xlfn.XLOOKUP($E79,[1]测算表!$V:$V,[1]测算表!AC:AC,,0,1) -> 1169 | M79: =_xlfn.XLOOKUP($E79,[1]测算表!$V:$V,[1]测算表!AD:AD,,0,1) -> 1104 | N79: =_xlfn.XLOOKUP($E79,[1]测算表!$V:$V,[1]测算表!AE:AE,,0,1) -> 993 | O79: =_xlfn.XLOOKUP($E79,[1]测算表!$V:$V,[1]测算表!AF:AF,,0,1) -> 794
A80: 77 | B80: G | C80: 003313030010000 | D80: 宫颈息肉切除术 | E80: 331303001 | F80: 宫颈息肉切除术（临床有宫腔镜加收） | G80: 子宫内膜息肉、宫颈管息肉分别参照执行 | I80: 次 | K80: =_xlfn.XLOOKUP($E80,[1]测算表!$V:$V,[1]测算表!AB:AB,,0,1) -> 299 | L80: =_xlfn.XLOOKUP($E80,[1]测算表!$V:$V,[1]测算表!AC:AC,,0,1) -> 269 | M80: =_xlfn.XLOOKUP($E80,[1]测算表!$V:$V,[1]测算表!AD:AD,,0,1) -> 254 | N80: =_xlfn.XLOOKUP($E80,[1]测算表!$V:$V,[1]测算表!AE:AE,,0,1) -> 229 | O80: =_xlfn.XLOOKUP($E80,[1]测算表!$V:$V,[1]测算表!AF:AF,,0,1) -> 183
A81: 78 | B81: G | C81: 003313030110000 | D81: 经腹子宫肌瘤剔除术 | E81: 331303011 | F81: 经腹子宫肌瘤剔除术 | I81: 次 | J81: 使用肌瘤粉碎装置时加收25%△ | K81: =_xlfn.XLOOKUP($E81,[1]测算表!$V:$V,[1]测算表!AB:AB,,0,1) -> 1223 | L81: =_xlfn.XLOOKUP($E81,[1]测算表!$V:$V,[1]测算表!AC:AC,,0,1) -> 1101 | M81: =_xlfn.XLOOKUP($E81,[1]测算表!$V:$V,[1]测算表!AD:AD,,0,1) -> 1040 | N81: =_xlfn.XLOOKUP($E81,[1]测算表!$V:$V,[1]测算表!AE:AE,,0,1) -> 936 | O81: =_xlfn.XLOOKUP($E81,[1]测算表!$V:$V,[1]测算表!AF:AF,,0,1) -> 748
A82: 79 | B82: G | C82: 003313030290000 | D82: 粘膜下子宫肌瘤圈套术 | E82: 331303029 | F82: 粘膜下子宫肌瘤圈套术 | I82: 次 | J82: △ | K82: =_xlfn.XLOOKUP($E82,[1]测算表!$V:$V,[1]测算表!AB:AB,,0,1) -> 1087 | L82: =_xlfn.XLOOKUP($E82,[1]测算表!$V:$V,[1]测算表!AC:AC,,0,1) -> 978 | M82: =_xlfn.XLOOKUP($E82,[1]测算表!$V:$V,[1]测算表!AD:AD,,0,1) -> 924 | N82: =_xlfn.XLOOKUP($E82,[1]测算表!$V:$V,[1]测算表!AE:AE,,0,1) -> 831 | O82: =_xlfn.XLOOKUP($E82,[1]测算表!$V:$V,[1]测算表!AF:AF,,0,1) -> 664
A83: 80 | B83: G | C83: 003313060080000 | D83: 经宫腔镜子宫肌瘤切除术 | E83: 331306008 | F83: 经宫腔镜子宫肌瘤切除术 | G83: 不含术中B超监视 | I83: 次 | J83: 腹腔镜辅助手术加收200元 △ | K83: =_xlfn.XLOOKUP($E83,[1]测算表!$V:$V,[1]测算表!AB:AB,,0,1) -> 1766 | L83: =_xlfn.XLOOKUP($E83,[1]测算表!$V:$V,[1]测算表!AC:AC,,0,1) -> 1589 | M83: =_xlfn.XLOOKUP($E83,[1]测算表!$V:$V,[1]测算表!AD:AD,,0,1) -> 1501 | N83: =_xlfn.XLOOKUP($E83,[1]测算表!$V:$V,[1]测算表!AE:AE,,0,1) -> 1350 | O83: =_xlfn.XLOOKUP($E83,[1]测算表!$V:$V,[1]测算表!AF:AF,,0,1) -> 1080
A84: 81 | B84: G | C84: 003313030220000 | D84: 子宫动脉结扎术 | E84: 331303022 | F84: 子宫动脉结扎术 | I84: 次 | K84: =_xlfn.XLOOKUP($E84,[1]测算表!$V:$V,[1]测算表!AB:AB,,0,1) -> 583 | L84: =_xlfn.XLOOKUP($E84,[1]测算表!$V:$V,[1]测算表!AC:AC,,0,1) -> 524 | M84: =_xlfn.XLOOKUP($E84,[1]测算表!$V:$V,[1]测算表!AD:AD,,0,1) -> 496 | N84: =_xlfn.XLOOKUP($E84,[1]测算表!$V:$V,[1]测算表!AE:AE,,0,1) -> 435 | O84: =_xlfn.XLOOKUP($E84,[1]测算表!$V:$V,[1]测算表!AF:AF,,0,1) -> 346
A85: 82 | B85: G | C85: 003313030120000 | D85: 子宫次全切除术 | E85: 331303012 | F85: 子宫次全切除术 | I85: 次 | J85: △ | K85: =_xlfn.XLOOKUP($E85,[1]测算表!$V:$V,[1]测算表!AB:AB,,0,1) -> 1359 | L85: =_xlfn.XLOOKUP($E85,[1]测算表!$V:$V,[1]测算表!AC:AC,,0,1) -> 1223 | M85: =_xlfn.XLOOKUP($E85,[1]测算表!$V:$V,[1]测算表!AD:AD,,0,1) -> 1155 | N85: =_xlfn.XLOOKUP($E85,[1]测算表!$V:$V,[1]测算表!AE:AE,,0,1) -> 1040 | O85: =_xlfn.XLOOKUP($E85,[1]测算表!$V:$V,[1]测算表!AF:AF,,0,1) -> 831
A86: 83 | B86: G | C86: 003314000140000 | D86: 剖宫产术中子宫次全切术 | E86: 331400014 | F86: 剖宫产术中子宫次全切术 | I86: 次 | K86: =_xlfn.XLOOKUP($E86,[1]测算表!$V:$V,[1]测算表!AB:AB,,0,1) -> 1950 | L86: =_xlfn.XLOOKUP($E86,[1]测算表!$V:$V,[1]测算表!AC:AC,,0,1) -> 1754 | M86: =_xlfn.XLOOKUP($E86,[1]测算表!$V:$V,[1]测算表!AD:AD,,0,1) -> 1657 | N86: =_xlfn.XLOOKUP($E86,[1]测算表!$V:$V,[1]测算表!AE:AE,,0,1) -> 1491 | O86: =_xlfn.XLOOKUP($E86,[1]测算表!$V:$V,[1]测算表!AF:AF,,0,1) -> 1192
A87: 84 | B87: G | C87: 003313030130000 | D87: 阴式全子宫切除术 | E87: 331303013 | F87: 阴式全子宫切除术 | I87: 次 | J87: △ | K87: =_xlfn.XLOOKUP($E87,[1]测算表!$V:$V,[1]测算表!AB:AB,,0,1) -> 1494 | L87: =_xlfn.XLOOKUP($E87,[1]测算表!$V:$V,[1]测算表!AC:AC,,0,1) -> 1345 | M87: =_xlfn.XLOOKUP($E87,[1]测算表!$V:$V,[1]测算表!AD:AD,,0,1) -> 1270 | N87: =_xlfn.XLOOKUP($E87,[1]测算表!$V:$V,[1]测算表!AE:AE,,0,1) -> 1142 | O87: =_xlfn.XLOOKUP($E87,[1]测算表!$V:$V,[1]测算表!AF:AF,,0,1) -> 913
A88: 85 | B88: G | C88: 003313030140000 | D88: 腹式全子宫切除术 | E88: 331303014 | F88: 腹式全子宫切除术 | I88: 次 | J88: △ | K88: =_xlfn.XLOOKUP($E88,[1]测算表!$V:$V,[1]测算表!AB:AB,,0,1) -> 1359 | L88: =_xlfn.XLOOKUP($E88,[1]测算表!$V:$V,[1]测算表!AC:AC,,0,1) -> 1223 | M88: =_xlfn.XLOOKUP($E88,[1]测算表!$V:$V,[1]测算表!AD:AD,,0,1) -> 1155 | N88: =_xlfn.XLOOKUP($E88,[1]测算表!$V:$V,[1]测算表!AE:AE,,0,1) -> 1040 | O88: =_xlfn.XLOOKUP($E88,[1]测算表!$V:$V,[1]测算表!AF:AF,,0,1) -> 831
A89: 86 | B89: G | C89: 003314000130000 | D89: 剖宫产术中子宫全切术 | E89: 331400013 | F89: 剖宫产术中子宫全切术 | I89: 次 | J89: △ | K89: =_xlfn.XLOOKUP($E89,[1]测算表!$V:$V,[1]测算表!AB:AB,,0,1) -> 1859 | L89: =_xlfn.XLOOKUP($E89,[1]测算表!$V:$V,[1]测算表!AC:AC,,0,1) -> 1673 | M89: =_xlfn.XLOOKUP($E89,[1]测算表!$V:$V,[1]测算表!AD:AD,,0,1) -> 1580 | N89: =_xlfn.XLOOKUP($E89,[1]测算表!$V:$V,[1]测算表!AE:AE,,0,1) -> 1422 | O89: =_xlfn.XLOOKUP($E89,[1]测算表!$V:$V,[1]测算表!AF:AF,,0,1) -> 1136
A90: 87 | B90: G | C90: 003313030180000 | D90: 经腹阴道联合子宫切除术 | E90: 331303018 | F90: 经腹阴道联合子宫切除术 | I90: 次 | K90: =_xlfn.XLOOKUP($E90,[1]测算表!$V:$V,[1]测算表!AB:AB,,0,1) -> 1300 | L90: =_xlfn.XLOOKUP($E90,[1]测算表!$V:$V,[1]测算表!AC:AC,,0,1) -> 1170 | M90: =_xlfn.XLOOKUP($E90,[1]测算表!$V:$V,[1]测算表!AD:AD,,0,1) -> 1105 | N90: =_xlfn.XLOOKUP($E90,[1]测算表!$V:$V,[1]测算表!AE:AE,,0,1) -> 994 | O90: =_xlfn.XLOOKUP($E90,[1]测算表!$V:$V,[1]测算表!AF:AF,,0,1) -> 795
A91: 88 | B91: G | C91: 003313030150000 | D91: 全子宫+双附件切除术 | E91: 331303015 | F91: 全子宫+双附件切除术 | I91: 次 | J91: △ | K91: =_xlfn.XLOOKUP($E91,[1]测算表!$V:$V,[1]测算表!AB:AB,,0,1) -> 1630 | L91: =_xlfn.XLOOKUP($E91,[1]测算表!$V:$V,[1]测算表!AC:AC,,0,1) -> 1467 | M91: =_xlfn.XLOOKUP($E91,[1]测算表!$V:$V,[1]测算表!AD:AD,,0,1) -> 1386 | N91: =_xlfn.XLOOKUP($E91,[1]测算表!$V:$V,[1]测算表!AE:AE,,0,1) -> 1247 | O91: =_xlfn.XLOOKUP($E91,[1]测算表!$V:$V,[1]测算表!AF:AF,,0,1) -> 997
A92: 89 | B92: G | C92: 003313030160000 | D92: 次广泛子宫切除术 | E92: 331303016 | F92: 次广泛子宫切除术 | G92: 含双附件切除 | I92: 次 | J92: * | K92: =_xlfn.XLOOKUP($E92,[1]测算表!$V:$V,[1]测算表!AB:AB,,0,1) -> 2178 | L92: =_xlfn.XLOOKUP($E92,[1]测算表!$V:$V,[1]测算表!AC:AC,,0,1) -> 1960 | M92: =_xlfn.XLOOKUP($E92,[1]测算表!$V:$V,[1]测算表!AD:AD,,0,1) -> 1851 | N92: =_xlfn.XLOOKUP($E92,[1]测算表!$V:$V,[1]测算表!AE:AE,,0,1) -> 1665 | O92: =_xlfn.XLOOKUP($E92,[1]测算表!$V:$V,[1]测算表!AF:AF,,0,1) -> 1332
A93: 90 | B93: G | C93: 003313030170000 | D93: 广泛性子宫切除+盆腹腔淋巴结清除术 | E93: 331303017 | F93: 广泛性子宫切除+盆腹腔淋巴结清除术 | I93: 次 | J93: * | K93: =_xlfn.XLOOKUP($E93,[1]测算表!$V:$V,[1]测算表!AB:AB,,0,1) -> 3112 | L93: =_xlfn.XLOOKUP($E93,[1]测算表!$V:$V,[1]测算表!AC:AC,,0,1) -> 2801 | M93: =_xlfn.XLOOKUP($E93,[1]测算表!$V:$V,[1]测算表!AD:AD,,0,1) -> 2645 | N93: =_xlfn.XLOOKUP($E93,[1]测算表!$V:$V,[1]测算表!AE:AE,,0,1) -> 2380 | O93: =_xlfn.XLOOKUP($E93,[1]测算表!$V:$V,[1]测算表!AF:AF,,0,1) -> 1904
A94: 91 | B94: G | C94: 003313030100000 | D94: 子宫修补术 | E94: 331303010 | F94: 子宫修补术 | I94: 次 | J94: △ | K94: =_xlfn.XLOOKUP($E94,[1]测算表!$V:$V,[1]测算表!AB:AB,,0,1) -> 1087 | L94: =_xlfn.XLOOKUP($E94,[1]测算表!$V:$V,[1]测算表!AC:AC,,0,1) -> 978 | M94: =_xlfn.XLOOKUP($E94,[1]测算表!$V:$V,[1]测算表!AD:AD,,0,1) -> 924 | N94: =_xlfn.XLOOKUP($E94,[1]测算表!$V:$V,[1]测算表!AE:AE,,0,1) -> 832 | O94: =_xlfn.XLOOKUP($E94,[1]测算表!$V:$V,[1]测算表!AF:AF,,0,1) -> 665
A95: 92 | B95: G | C95: 003313030190000 | D95: 子宫整形术 | E95: 331303019 | F95: 子宫整形术 | G95: 纵隔切除、残角子宫切除、畸形子宫矫治、双角子宫融合等分别参照执行。不含术中B超监视 | I95: 次 | J95: 使用宫腔镜和腹腔镜辅助手术时加收500元△ | K95: =_xlfn.XLOOKUP($E95,[1]测算表!$V:$V,[1]测算表!AB:AB,,0,1) -> 1087 | L95: =_xlfn.XLOOKUP($E95,[1]测算表!$V:$V,[1]测算表!AC:AC,,0,1) -> 978 | M95: =_xlfn.XLOOKUP($E95,[1]测算表!$V:$V,[1]测算表!AD:AD,,0,1) -> 924 | N95: =_xlfn.XLOOKUP($E95,[1]测算表!$V:$V,[1]测算表!AE:AE,,0,1) -> 831 | O95: =_xlfn.XLOOKUP($E95,[1]测算表!$V:$V,[1]测算表!AF:AF,,0,1) -> 664
A96: 93 | B96: G | C96: 003313030080000 | D96: 曼氏手术 | E96: 331303008 | F96: 曼氏手术 | G96: 含宫颈部分切除+主韧带缩短+阴道前后壁修补术 | I96: 次 | K96: =_xlfn.XLOOKUP($E96,[1]测算表!$V:$V,[1]测算表!AB:AB,,0,1) -> 1430 | L96: =_xlfn.XLOOKUP($E96,[1]测算表!$V:$V,[1]测算表!AC:AC,,0,1) -> 1286 | M96: =_xlfn.XLOOKUP($E96,[1]测算表!$V:$V,[1]测算表!AD:AD,,0,1) -> 1216 | N96: =_xlfn.XLOOKUP($E96,[1]测算表!$V:$V,[1]测算表!AE:AE,,0,1) -> 1094 | O96: =_xlfn.XLOOKUP($E96,[1]测算表!$V:$V,[1]测算表!AF:AF,,0,1) -> 875
A97: 94 | B97: G | C97: 003313030230000 | D97: 子宫悬吊术 | E97: 331303023 | F97: 子宫悬吊术 | G97: 阴道吊带术、阴道残端悬吊术分别参照执行 | H97: 吊带 | I97: 次 | K97: =_xlfn.XLOOKUP($E97,[1]测算表!$V:$V,[1]测算表!AB:AB,,0,1) -> 872 | L97: =_xlfn.XLOOKUP($E97,[1]测算表!$V:$V,[1]测算表!AC:AC,,0,1) -> 785 | M97: =_xlfn.XLOOKUP($E97,[1]测算表!$V:$V,[1]测算表!AD:AD,,0,1) -> 741 | N97: =_xlfn.XLOOKUP($E97,[1]测算表!$V:$V,[1]测算表!AE:AE,,0,1) -> 652 | O97: =_xlfn.XLOOKUP($E97,[1]测算表!$V:$V,[1]测算表!AF:AF,,0,1) -> 521
A98: 95 | B98: E | C98: 003112010140000 | D98: 子宫直肠凹封闭术 | E98: 311201014 | F98: 子宫直肠凹封闭术 | I98: 次 | K98: =_xlfn.XLOOKUP($E98,[1]测算表!$V:$V,[1]测算表!AB:AB,,0,1) -> 10 | L98: =_xlfn.XLOOKUP($E98,[1]测算表!$V:$V,[1]测算表!AC:AC,,0,1) -> 9 | M98: =_xlfn.XLOOKUP($E98,[1]测算表!$V:$V,[1]测算表!AD:AD,,0,1) -> 9 | N98: =_xlfn.XLOOKUP($E98,[1]测算表!$V:$V,[1]测算表!AE:AE,,0,1) -> 8 | O98: =_xlfn.XLOOKUP($E98,[1]测算表!$V:$V,[1]测算表!AF:AF,,0,1) -> 6
A99: 96 | B99: G | C99: 003313030300000 | D99: 宫颈悬吊术 | E99: 331303030 | F99: 宫颈悬吊术 | G99: 含离断、固定术 | H99: 悬吊材料 | I99: 次 | K99: =_xlfn.XLOOKUP($E99,[1]测算表!$V:$V,[1]测算表!AB:AB,,0,1) -> 910 | L99: =_xlfn.XLOOKUP($E99,[1]测算表!$V:$V,[1]测算表!AC:AC,,0,1) -> 818 | M99: =_xlfn.XLOOKUP($E99,[1]测算表!$V:$V,[1]测算表!AD:AD,,0,1) -> 774 | N99: =_xlfn.XLOOKUP($E99,[1]测算表!$V:$V,[1]测算表!AE:AE,,0,1) -> 696 | O99: =_xlfn.XLOOKUP($E99,[1]测算表!$V:$V,[1]测算表!AF:AF,,0,1) -> 555
A100: 97 | B100: G | C100: 003313020100000 | D100: 输卵管介入治疗 | E100: 331302010 | F100: 输卵管介入治疗 | I100: 次 | J100: 输卵管积水穿刺参照执行 | K100: =_xlfn.XLOOKUP($E100,[1]测算表!$V:$V,[1]测算表!AB:AB,,0,1) -> 1040 | L100: =_xlfn.XLOOKUP($E100,[1]测算表!$V:$V,[1]测算表!AC:AC,,0,1) -> 935 | M100: =_xlfn.XLOOKUP($E100,[1]测算表!$V:$V,[1]测算表!AD:AD,,0,1) -> 883 | N100: =_xlfn.XLOOKUP($E100,[1]测算表!$V:$V,[1]测算表!AE:AE,,0,1) -> 794 | O100: =_xlfn.XLOOKUP($E100,[1]测算表!$V:$V,[1]测算表!AF:AF,,0,1) -> 635
...
