Workbook

Sheet 1-1综合诊查类医疗服务价格项目表
A1: 附件1-1
A2: 益阳市综合诊查类医疗服务项目价格表（征求意见稿）
A3: 序号 | B3: 项目编码 | C3: 项目名称 | D3: 服务产出 | E3: 价格构成 | F3: 加收项 | G3: 扩展项 | H3: 计价单位 | I3: 计价说明 | J3: 一类价格 | K3: 二类一档 价格 | L3: 二类二档 价格 | M3: 三类价格 | N3: 基层价格 | O3: 支付分类 | P3: 自付比例
J4: 价格单位：元
A5: 1 | B5: 011102020010000 | C5: 门诊诊查费（普通门诊） | D5: 指主治及以下医师提供技术劳务的门诊诊查服务，包含为患者提供从建档、了解病情和患者基本情况、阅读检查检验结果、分析诊断、制定诊疗方案或提出下一步诊断建议的医疗服务。 | E5: 所定价格涵盖首诊建档、信息核实、询问病情、采集病史、查体、一般物理检查、阅读分析检查检验结果、评估病情、诊断、制定诊疗方案、向患者或家属告知、开具处方和治疗单、开具检查检验单、病历书写等所需的人力资源和基本物质资源消耗。 | F5: 01副主任医师加收 02主任医师加收 03知名专家加收 | H5: 次 | I5: 儿童加收30%。 | J5: =_xlfn.XLOOKUP($B5,[1]测算表!$B:$B,[1]测算表!H:H,,0,1) -> 8 | K5: =_xlfn.XLOOKUP($B5,[1]测算表!$B:$B,[1]测算表!I:I,,0,1) -> 7 | L5: =_xlfn.XLOOKUP($B5,[1]测算表!$B:$B,[1]测算表!J:J,,0,1) -> 7 | M5: =_xlfn.XLOOKUP($B5,[1]测算表!$B:$B,[1]测算表!K:K,,0,1) -> 6 | N5: =_xlfn.XLOOKUP($B5,[1]测算表!$B:$B,[1]测算表!L:L,,0,1) -> 6 | O5: 丙类 | P5: 1
B6: 011102020010001 | C6: 门诊诊查费（普通门诊）-副主任医师（加收） | D6: 指副主任医师提供技术劳务的门诊诊查服务，包含为患者提供从建档、了解病情和患者基本情况、阅读检查检验结果、分析诊断、制定诊疗方案或提出下一步诊断建议的医疗服务。 | J6: =_xlfn.XLOOKUP($B6,[1]测算表!$B:$B,[1]测算表!H:H,,0,1) -> 12 | K6: =_xlfn.XLOOKUP($B6,[1]测算表!$B:$B,[1]测算表!I:I,,0,1) -> 11 | L6: =_xlfn.XLOOKUP($B6,[1]测算表!$B:$B,[1]测算表!J:J,,0,1) -> 11 | M6: =_xlfn.XLOOKUP($B6,[1]测算表!$B:$B,[1]测算表!K:K,,0,1) -> 9 | N6: =_xlfn.XLOOKUP($B6,[1]测算表!$B:$B,[1]测算表!L:L,,0,1) -> 9
B7: 011102020010002 | C7: 门诊诊查费（普通门诊）-主任医师（加收） | D7: 指主任医师提供技术劳务的门诊诊查服务，包含为患者提供从建档、了解病情和患者基本情况、阅读检查检验结果、分析诊断、制定诊疗方案或提出下一步诊断建议的医疗服务。 | J7: =_xlfn.XLOOKUP($B7,[1]测算表!$B:$B,[1]测算表!H:H,,0,1) -> 22 | K7: =_xlfn.XLOOKUP($B7,[1]测算表!$B:$B,[1]测算表!I:I,,0,1) -> 20 | L7: =_xlfn.XLOOKUP($B7,[1]测算表!$B:$B,[1]测算表!J:J,,0,1) -> 20 | M7: =_xlfn.XLOOKUP($B7,[1]测算表!$B:$B,[1]测算表!K:K,,0,1) -> 14 | N7: =_xlfn.XLOOKUP($B7,[1]测算表!$B:$B,[1]测算表!L:L,,0,1) -> 14
B8: 011102020010003 | C8: 门诊诊查费（普通门诊）-知名专家（加收） | D8: 指知名专家提供技术劳务的门诊诊查服务，包含为患者提供从建档、了解病情和患者基本情况、阅读检查检验结果、分析诊断、制定诊疗方案或提出下一步诊断建议的医疗服务。 | J8: =_xlfn.XLOOKUP($B8,[1]测算表!$B:$B,[1]测算表!H:H,,0,1) -> 68 | K8: =_xlfn.XLOOKUP($B8,[1]测算表!$B:$B,[1]测算表!I:I,,0,1) -> 61 | L8: =_xlfn.XLOOKUP($B8,[1]测算表!$B:$B,[1]测算表!J:J,,0,1) -> 58 | M8: =_xlfn.XLOOKUP($B8,[1]测算表!$B:$B,[1]测算表!K:K,,0,1) -> 54 | N8: =_xlfn.XLOOKUP($B8,[1]测算表!$B:$B,[1]测算表!L:L,,0,1) -> 49
A9: 2 | B9: 011102020020000 | C9: 门诊诊查费（中医辨证论治） | D9: 指主治及以下医师通过望闻问切收集中医四诊信息，依据中医理论进行辨证，分析病因、病位、病性及病机转化，作出证候诊断，同时可结合现代医学，为门诊患者制定诊疗方案。 | E9: 所定价格涵盖首诊建档、信息核实、询问病情、采集病史、望闻问切、查体、一般物理检查、阅读分析检查检验结果、评估病情、中医辨证分析、诊断、制定诊疗方案、向患者或家属告知、开具处方、开具检查检验单、病历书写等所需的人力资源和基本物质资源消耗。 | F9: 01副主任医师加收 02主任医师加收 03知名专家加收 | H9: 次 | I9: 1.单次就诊不与“门诊诊查费（普通）”同时收费。 2.儿童加收30% | J9: =_xlfn.XLOOKUP($B9,[1]测算表!$B:$B,[1]测算表!H:H,,0,1) -> 11 | K9: =_xlfn.XLOOKUP($B9,[1]测算表!$B:$B,[1]测算表!I:I,,0,1) -> 10 | L9: =_xlfn.XLOOKUP($B9,[1]测算表!$B:$B,[1]测算表!J:J,,0,1) -> 10 | M9: =_xlfn.XLOOKUP($B9,[1]测算表!$B:$B,[1]测算表!K:K,,0,1) -> 9 | N9: =_xlfn.XLOOKUP($B9,[1]测算表!$B:$B,[1]测算表!L:L,,0,1) -> 9 | O9: 丙类 | P9: 1
B10: 011102020020001 | C10: 门诊诊查费（中医辨证论治）-副主任医师（加收） | D10: 指副主任医师通过望闻问切收集中医四诊信息，依据中医理论进行辨证，分析病因、病位、病性及病机转化，作出证候诊断，同时可结合现代医学，为门诊患者制定诊疗方案。 | J10: =_xlfn.XLOOKUP($B10,[1]测算表!$B:$B,[1]测算表!H:H,,0,1) -> 15 | K10: =_xlfn.XLOOKUP($B10,[1]测算表!$B:$B,[1]测算表!I:I,,0,1) -> 14 | L10: =_xlfn.XLOOKUP($B10,[1]测算表!$B:$B,[1]测算表!J:J,,0,1) -> 14 | M10: =_xlfn.XLOOKUP($B10,[1]测算表!$B:$B,[1]测算表!K:K,,0,1) -> 12 | N10: =_xlfn.XLOOKUP($B10,[1]测算表!$B:$B,[1]测算表!L:L,,0,1) -> 12
B11: 011102020020002 | C11: 门诊诊查费（中医辨证论治）-主任医师（加收） | D11: 指主任医师通过望闻问切收集中医四诊信息，依据中医理论进行辨证，分析病因、病位、病性及病机转化，作出证候诊断，同时可结合现代医学，为门诊患者制定诊疗方案。 | J11: =_xlfn.XLOOKUP($B11,[1]测算表!$B:$B,[1]测算表!H:H,,0,1) -> 25 | K11: =_xlfn.XLOOKUP($B11,[1]测算表!$B:$B,[1]测算表!I:I,,0,1) -> 23 | L11: =_xlfn.XLOOKUP($B11,[1]测算表!$B:$B,[1]测算表!J:J,,0,1) -> 23 | M11: =_xlfn.XLOOKUP($B11,[1]测算表!$B:$B,[1]测算表!K:K,,0,1) -> 17 | N11: =_xlfn.XLOOKUP($B11,[1]测算表!$B:$B,[1]测算表!L:L,,0,1) -> 17
B12: 011102020020003 | C12: 门诊诊查费（中医辨证论治）-知名专家（加收） | D12: 指知名专家通过望闻问切收集中医四诊信息，依据中医理论进行辨证，分析病因、病位、病性及病机转化，作出证候诊断，同时可结合现代医学，为门诊患者制定诊疗方案。 | J12: =_xlfn.XLOOKUP($B12,[1]测算表!$B:$B,[1]测算表!H:H,,0,1) -> 68 | K12: =_xlfn.XLOOKUP($B12,[1]测算表!$B:$B,[1]测算表!I:I,,0,1) -> 61 | L12: =_xlfn.XLOOKUP($B12,[1]测算表!$B:$B,[1]测算表!J:J,,0,1) -> 58 | M12: =_xlfn.XLOOKUP($B12,[1]测算表!$B:$B,[1]测算表!K:K,,0,1) -> 54 | N12: =_xlfn.XLOOKUP($B12,[1]测算表!$B:$B,[1]测算表!L:L,,0,1) -> 49
A13: 3 | B13: 011102020030000 | C13: 门诊诊查费（药学门诊） | D13: 指卫生主管部门认定具有药学门诊资质的临床药师，提供技术劳务的门诊药学/中药学服务，包含为患者提供从药学/中药学咨询到用药指导，制定用药方案的药学服务。 | E13: 所定价格涵盖核实信息、药学咨询、评估用药情况、开展药学指导、制定用药方案、干预或提出药物重整建议、建立药历等所需的人力资源和基本物质资源消耗。 | F13: 01副主任（中）药师加收 02主任（中）药师加收 | H13: 次 | I13: 本项目的药学服务涵盖西药、中药及民族药。 | J13: =_xlfn.XLOOKUP($B13,[1]测算表!$B:$B,[1]测算表!H:H,,0,1) -> 8 | K13: =_xlfn.XLOOKUP($B13,[1]测算表!$B:$B,[1]测算表!I:I,,0,1) -> 7 | L13: =_xlfn.XLOOKUP($B13,[1]测算表!$B:$B,[1]测算表!J:J,,0,1) -> 7 | M13: =_xlfn.XLOOKUP($B13,[1]测算表!$B:$B,[1]测算表!K:K,,0,1) -> 6 | N13: =_xlfn.XLOOKUP($B13,[1]测算表!$B:$B,[1]测算表!L:L,,0,1) -> 6 | O13: 丙类 | P13: 1
B14: 011102020030001 | C14: 门诊诊查费（药学门诊）-副主任（中）药师（加收） | J14: =_xlfn.XLOOKUP($B14,[1]测算表!$B:$B,[1]测算表!H:H,,0,1) -> 12 | K14: =_xlfn.XLOOKUP($B14,[1]测算表!$B:$B,[1]测算表!I:I,,0,1) -> 11 | L14: =_xlfn.XLOOKUP($B14,[1]测算表!$B:$B,[1]测算表!J:J,,0,1) -> 11 | M14: =_xlfn.XLOOKUP($B14,[1]测算表!$B:$B,[1]测算表!K:K,,0,1) -> 9 | N14: =_xlfn.XLOOKUP($B14,[1]测算表!$B:$B,[1]测算表!L:L,,0,1) -> 9
B15: 011102020030002 | C15: 门诊诊查费（药学门诊）-主任（中）药师（加收） | J15: =_xlfn.XLOOKUP($B15,[1]测算表!$B:$B,[1]测算表!H:H,,0,1) -> 22 | K15: =_xlfn.XLOOKUP($B15,[1]测算表!$B:$B,[1]测算表!I:I,,0,1) -> 20 | L15: =_xlfn.XLOOKUP($B15,[1]测算表!$B:$B,[1]测算表!J:J,,0,1) -> 20 | M15: =_xlfn.XLOOKUP($B15,[1]测算表!$B:$B,[1]测算表!K:K,,0,1) -> 14 | N15: =_xlfn.XLOOKUP($B15,[1]测算表!$B:$B,[1]测算表!L:L,,0,1) -> 14
A16: 4 | B16: 011102020040000 | C16: 门诊诊查费（护理门诊） | D16: 指主管护师及以上护理人员提供技术劳务的门诊护理服务，包含为患者提供从护理咨询到护理查体评估，制定护理方案的护理服务。 | E16: 所定价格涵盖核实信息，护理服务、护理咨询、护理查体评估、护理指导及制定护理方案、护理记录等所需的人力资源和基本物质资源消耗。 | H16: 次 | I16: 收费范围限国家卫生健康主管部门准许开展的护理门诊。 | J16: =_xlfn.XLOOKUP($B16,[1]测算表!$B:$B,[1]测算表!H:H,,0,1) -> 8 | K16: =_xlfn.XLOOKUP($B16,[1]测算表!$B:$B,[1]测算表!I:I,,0,1) -> 7 | L16: =_xlfn.XLOOKUP($B16,[1]测算表!$B:$B,[1]测算表!J:J,,0,1) -> 7 | M16: =_xlfn.XLOOKUP($B16,[1]测算表!$B:$B,[1]测算表!K:K,,0,1) -> 6 | N16: =_xlfn.XLOOKUP($B16,[1]测算表!$B:$B,[1]测算表!L:L,,0,1) -> 6 | O16: 丙类 | P16: 1
A17: 5 | B17: 011102020050000 | C17: 门诊诊查费（便民门诊） | D17: 指针对复诊患者，提供开具药品、耗材、检查检验处方接续的门诊服务。 | E17: 所定价格涵盖信息核实、开单等所需的人力资源和基本物质资源消耗。 | H17: 次 | J17: =_xlfn.XLOOKUP($B17,[1]测算表!$B:$B,[1]测算表!H:H,,0,1) -> 2 | K17: =_xlfn.XLOOKUP($B17,[1]测算表!$B:$B,[1]测算表!I:I,,0,1) -> 2 | L17: =_xlfn.XLOOKUP($B17,[1]测算表!$B:$B,[1]测算表!J:J,,0,1) -> 2 | M17: =_xlfn.XLOOKUP($B17,[1]测算表!$B:$B,[1]测算表!K:K,,0,1) -> 2 | N17: =_xlfn.XLOOKUP($B17,[1]测算表!$B:$B,[1]测算表!L:L,,0,1) -> 2 | O17: 丙类 | P17: 1
A18: 6 | B18: 011101000010000 | C18: 一般诊疗费 | D18: 指基层医疗卫生机构医护人员为患者提供技术劳务的诊疗服务。 | E18: 所定价格涵盖挂号、诊查、注射（不含药品费）以及药事服务成本等所需的人力资源和基本物质资源消耗。 | H18: 次 | I18: 不与各类“门诊诊查费”和“注射费”同时收费。 | J18: =_xlfn.XLOOKUP($B18,[1]测算表!$B:$B,[1]测算表!H:H,,0,1) -> 10 | K18: =_xlfn.XLOOKUP($B18,[1]测算表!$B:$B,[1]测算表!I:I,,0,1) -> 10 | L18: =_xlfn.XLOOKUP($B18,[1]测算表!$B:$B,[1]测算表!J:J,,0,1) -> 10 | M18: =_xlfn.XLOOKUP($B18,[1]测算表!$B:$B,[1]测算表!K:K,,0,1) -> 10 | N18: =_xlfn.XLOOKUP($B18,[1]测算表!$B:$B,[1]测算表!L:L,,0,1) -> 10 | O18: 丙类 | P18: 1
A19: 7 | B19: 011102020060000 | C19: 急诊诊查费（普通） | D19: 指在急诊区域内，包含为患者提供从建档、了解病情和患者基本情况、分析诊断、制定诊疗方案或提出下一步诊断建议的医疗服务。 | E19: 所定价格涵盖急诊建档、信息核实、询问病情、采集病史、查体、一般物理检查、阅读分析检查检验结果、评估病情、诊断、制定诊疗方案、及时向患者或家属告知、开具处方和治疗单、开具检查检验单、病历书写等所需的人力资源和基本物质资源消耗。 | H19: 次 | I19: 儿童加收30% | J19: =_xlfn.XLOOKUP($B19,[1]测算表!$B:$B,[1]测算表!H:H,,0,1) -> 20 | K19: =_xlfn.XLOOKUP($B19,[1]测算表!$B:$B,[1]测算表!I:I,,0,1) -> 18 | L19: =_xlfn.XLOOKUP($B19,[1]测算表!$B:$B,[1]测算表!J:J,,0,1) -> 18 | M19: =_xlfn.XLOOKUP($B19,[1]测算表!$B:$B,[1]测算表!K:K,,0,1) -> 16 | N19: =_xlfn.XLOOKUP($B19,[1]测算表!$B:$B,[1]测算表!L:L,,0,1) -> 16 | O19: 甲类 | P19: 0
A20: 8 | B20: 011102020070000 | C20: 急诊诊查费（留观） | D20: 指医师对急诊留观患者进行的诊查服务，并根据病情制定诊疗方案。 | E20: 所定价格涵盖留观建档、巡视患者、密切观察患者病情及生命体征变化、病史采集、查体、一般物理检查、阅读分析检查检验结果、评估病情、诊断、制定诊疗方案、开立医嘱、病历书写、病情告知等所需的人力资源和基本物质资源消耗。 | F20: 01急诊抢救室加收 | H20: 日 | I20: 1.针对未满足住院条件或因各种原因无法办理住院的急诊留观患者收费。 2.当天转住院的，急诊诊查费（留观）与住院诊查费用（普通）不得同时收取。 | J20: =_xlfn.XLOOKUP($B20,[1]测算表!$B:$B,[1]测算表!H:H,,0,1) -> 24 | K20: =_xlfn.XLOOKUP($B20,[1]测算表!$B:$B,[1]测算表!I:I,,0,1) -> 21 | L20: =_xlfn.XLOOKUP($B20,[1]测算表!$B:$B,[1]测算表!J:J,,0,1) -> 21 | M20: =_xlfn.XLOOKUP($B20,[1]测算表!$B:$B,[1]测算表!K:K,,0,1) -> 17 | N20: =_xlfn.XLOOKUP($B20,[1]测算表!$B:$B,[1]测算表!L:L,,0,1) -> 17 | O20: 甲类 | P20: 0
B21: 011102020070001 | C21: 急诊诊查费（留观）-急诊抢救室（加收） | H21: 日 | J21: =_xlfn.XLOOKUP($B21,[1]测算表!$B:$B,[1]测算表!H:H,,0,1) -> 6 | K21: =_xlfn.XLOOKUP($B21,[1]测算表!$B:$B,[1]测算表!I:I,,0,1) -> 5 | L21: =_xlfn.XLOOKUP($B21,[1]测算表!$B:$B,[1]测算表!J:J,,0,1) -> 5 | M21: =_xlfn.XLOOKUP($B21,[1]测算表!$B:$B,[1]测算表!K:K,,0,1) -> 5 | N21: =_xlfn.XLOOKUP($B21,[1]测算表!$B:$B,[1]测算表!L:L,,0,1) -> 5
A22: 9 | B22: 011102030010000 | C22: 住院诊查费（普通） | D22: 指医师对住院患者进行每日的诊查服务，根据病情变化制定及调整诊疗方案。 | E22: 所定价格涵盖住院建档、查房、观察患者病情及生命体征变化、病史采集、查体、一般物理检查、阅读分析检查检验结果、评估病情、诊断、制定诊疗方案、病历书写、开立医嘱、病情告知等所需的人力资源和基本物质资源消耗。 | H22: 日 | I22: 儿童加收30% | J22: =_xlfn.XLOOKUP($B22,[1]测算表!$B:$B,[1]测算表!H:H,,0,1) -> 30 | K22: =_xlfn.XLOOKUP($B22,[1]测算表!$B:$B,[1]测算表!I:I,,0,1) -> 27 | L22: =_xlfn.XLOOKUP($B22,[1]测算表!$B:$B,[1]测算表!J:J,,0,1) -> 27 | M22: =_xlfn.XLOOKUP($B22,[1]测算表!$B:$B,[1]测算表!K:K,,0,1) -> 22 | N22: =_xlfn.XLOOKUP($B22,[1]测算表!$B:$B,[1]测算表!L:L,,0,1) -> 22 | O22: 甲类 | P22: 0
A23: 10 | B23: 011102030020000 | C23: 住院诊查费（临床药学） | D23: 指临床药师结合患者病情和用药情况，参与临床医师住院巡诊，协同制定个体化药物治疗方案，并进行用药监护和用药安全指导的药学服务。 | E23: 所定价格涵盖参与住院巡诊、协同制定个体化药物治疗方案、疗效观察、药物不良反应监测、安全用药指导、干预或提出药物重整等建议、建立药历等所需的人力资源和基本物质资源消耗。 | H23: 日 | I23: 符合规定资质的临床药师参与临床医师住院巡诊，按照每日12元收取；住院天数≤30天的，收取费用不高于60元；住院天数＞30 天的，每30天（含）收费不超过60元，总收费最高不超过150元。 | J23: =_xlfn.XLOOKUP($B23,[1]测算表!$B:$B,[1]测算表!H:H,,0,1) -> 12 | K23: =_xlfn.XLOOKUP($B23,[1]测算表!$B:$B,[1]测算表!I:I,,0,1) -> 12 | L23: =_xlfn.XLOOKUP($B23,[1]测算表!$B:$B,[1]测算表!J:J,,0,1) -> 12 | M23: =_xlfn.XLOOKUP($B23,[1]测算表!$B:$B,[1]测算表!K:K,,0,1) -> 12 | N23: =_xlfn.XLOOKUP($B23,[1]测算表!$B:$B,[1]测算表!L:L,,0,1) -> 12 | O23: 甲类 | P23: 0
A24: 11 | B24: 011106000010000 | C24: 多学科诊疗费 | D24: 指征询患者同意，在门诊及住院期间，针对疑难复杂疾病，由两个及以上相关临床学科，具备副主任（中）医师及以上资质的专家组成工作组，共同对患者病情进行问诊、综合评估、分析及诊断，制定全面诊疗方案的医疗服务。 | E24: 所定价格涵盖病史采集、查体、一般物理检查、阅读分析检查检验结果、综合评估、讨论分析病情、诊断、制定综合诊疗方案、开具处方医嘱（治疗单、检查检验单）、病历书写、病情告知等所需的人力资源和基本物质资源消耗。 | H24: 次 | I24: 1.不与各类门诊诊查费同时收取。 2.收费范围限国家卫生健康主管部门准许开展的多学科诊疗服务。 3.计算学科数量时，药学、护理不作为单独学科计算。 4.门诊诊查时间每次不少于20分钟，住院诊查时间每次不少于30分钟。 5.护理、药学不作为单独临床学科计价。 | J24: =_xlfn.XLOOKUP($B24,[1]测算表!$B:$B,[1]测算表!H:H,,0,1) -> 400 | K24: 340 | L24: 340 | M24: 272 | N24: 272 | O24: 丙类 | P24: 1
A25: 12 | B25: 011106000020000 | C25: 会诊费（院内） | D25: 指因患者病情需要，在科室间进行的临床多学科参与会诊制定诊疗方案。 | E25: 所定价格涵盖病史采集、查体、一般物理检查、阅读分析检查检验结果、病情分析、提供诊疗方案、开具处方医嘱（治疗单、检查检验单）等所需的人力资源和基本物质资源消耗。 | F25: 01副主任医师加收 02主任医师加收 | H25: 学科·次 | I25: 护理、药学不作为单独临床学科计价。 | J25: =_xlfn.XLOOKUP($B25,[1]测算表!$B:$B,[1]测算表!H:H,,0,1) -> 26 | K25: =_xlfn.XLOOKUP($B25,[1]测算表!$B:$B,[1]测算表!I:I,,0,1) -> 23 | L25: =_xlfn.XLOOKUP($B25,[1]测算表!$B:$B,[1]测算表!J:J,,0,1) -> 23 | M25: =_xlfn.XLOOKUP($B25,[1]测算表!$B:$B,[1]测算表!K:K,,0,1) -> 20 | N25: =_xlfn.XLOOKUP($B25,[1]测算表!$B:$B,[1]测算表!L:L,,0,1) -> 20 | O25: 甲类 | P25: 0
B26: 011106000020001 | C26: 会诊费（院内）-副主任医师（加收） | J26: =_xlfn.XLOOKUP($B26,[1]测算表!$B:$B,[1]测算表!H:H,,0,1) -> 14 | K26: =_xlfn.XLOOKUP($B26,[1]测算表!$B:$B,[1]测算表!I:I,,0,1) -> 13 | L26: =_xlfn.XLOOKUP($B26,[1]测算表!$B:$B,[1]测算表!J:J,,0,1) -> 13 | M26: =_xlfn.XLOOKUP($B26,[1]测算表!$B:$B,[1]测算表!K:K,,0,1) -> 10 | N26: =_xlfn.XLOOKUP($B26,[1]测算表!$B:$B,[1]测算表!L:L,,0,1) -> 10
B27: 011106000020002 | C27: 会诊费（院内）-正主任医师（加收） | J27: =_xlfn.XLOOKUP($B27,[1]测算表!$B:$B,[1]测算表!H:H,,0,1) -> 24 | K27: =_xlfn.XLOOKUP($B27,[1]测算表!$B:$B,[1]测算表!I:I,,0,1) -> 22 | L27: =_xlfn.XLOOKUP($B27,[1]测算表!$B:$B,[1]测算表!J:J,,0,1) -> 22 | M27: =_xlfn.XLOOKUP($B27,[1]测算表!$B:$B,[1]测算表!K:K,,0,1) -> 18 | N27: =_xlfn.XLOOKUP($B27,[1]测算表!$B:$B,[1]测算表!L:L,,0,1) -> 18
A28: 13 | B28: 011106000030000 | C28: 会诊费（院外） | D28: 指因患者病情需要，在医院间进行的临床多学科参与会诊制定诊疗方案。 | E28: 所定价格涵盖病史采集、查体、一般物理检查、阅读分析检查检验结果、病情分析、提供诊疗方案等所需的人力资源和基本物质资源消耗。（不含通勤、住宿等非医疗成本） | F28: 01副主任医师加收 03主任医师加收 | H28: 学科·次 | I28: 1.院外会诊按照“上门服务费+会诊费（院外）”的方式收费。 2.护理、药学不作为单独临床学科计价。 | J28: =_xlfn.XLOOKUP($B28,[1]测算表!$B:$B,[1]测算表!H:H,,0,1) -> 220 | K28: =_xlfn.XLOOKUP($B28,[1]测算表!$B:$B,[1]测算表!I:I,,0,1) -> 200 | L28: =_xlfn.XLOOKUP($B28,[1]测算表!$B:$B,[1]测算表!J:J,,0,1) -> 200 | M28: =_xlfn.XLOOKUP($B28,[1]测算表!$B:$B,[1]测算表!K:K,,0,1) -> 160 | N28: =_xlfn.XLOOKUP($B28,[1]测算表!$B:$B,[1]测算表!L:L,,0,1) -> 160 | O28: 丙类 | P28: 1
B29: 011106000030001 | C29: 会诊费（院外）-副主任医师（加收） | J29: =_xlfn.XLOOKUP($B29,[1]测算表!$B:$B,[1]测算表!H:H,,0,1) -> 40 | K29: =_xlfn.XLOOKUP($B29,[1]测算表!$B:$B,[1]测算表!I:I,,0,1) -> 36 | L29: =_xlfn.XLOOKUP($B29,[1]测算表!$B:$B,[1]测算表!J:J,,0,1) -> 36 | M29: =_xlfn.XLOOKUP($B29,[1]测算表!$B:$B,[1]测算表!K:K,,0,1) -> 29 | N29: =_xlfn.XLOOKUP($B29,[1]测算表!$B:$B,[1]测算表!L:L,,0,1) -> 29
B30: 011106000030002 | C30: 会诊费（院外）-正主任医师（加收） | J30: =_xlfn.XLOOKUP($B30,[1]测算表!$B:$B,[1]测算表!H:H,,0,1) -> 80 | K30: =_xlfn.XLOOKUP($B30,[1]测算表!$B:$B,[1]测算表!I:I,,0,1) -> 70 | L30: =_xlfn.XLOOKUP($B30,[1]测算表!$B:$B,[1]测算表!J:J,,0,1) -> 70 | M30: =_xlfn.XLOOKUP($B30,[1]测算表!$B:$B,[1]测算表!K:K,,0,1) -> 56 | N30: =_xlfn.XLOOKUP($B30,[1]测算表!$B:$B,[1]测算表!L:L,,0,1) -> 56
A31: 14 | B31: 011106000040000 | C31: 会诊费（远程会诊） | D31: 指因患者病情需要，邀请方和受邀方医疗机构通过可视视频实时、同步交互的方式开展的远程会诊。 | E31: 所定价格涵盖通过互联网远程医疗网络系统搭建、维护、邀约、应邀、可视视频实时同步交互、资料上传、问诊、阅读分析检查检验结果、在线讨论病情、提供诊疗方案、出具诊疗意见报告等所需的人力资源和基本物质资源消耗。 | H31: 日 | I31: 1.按照受邀方医疗机构标准收费。 2.收费范围限国卫医发〔2018〕25号《互联网诊疗管理办法（试行）》、《互联网医院管理办法（试行）》、《互联网医院基本标准（试行）》准许开展的诊疗服务。 3.护理、药学不作为单独临床学科计价。 | J31: =_xlfn.XLOOKUP($B31,[1]测算表!$B:$B,[1]测算表!H:H,,0,1) -> 自主定价 | K31: =_xlfn.XLOOKUP($B31,[1]测算表!$B:$B,[1]测算表!I:I,,0,1) -> 自主定价 | L31: =_xlfn.XLOOKUP($B31,[1]测算表!$B:$B,[1]测算表!J:J,,0,1) -> 自主定价 | M31: =_xlfn.XLOOKUP($B31,[1]测算表!$B:$B,[1]测算表!K:K,,0,1) -> 自主定价 | N31: =_xlfn.XLOOKUP($B31,[1]测算表!$B:$B,[1]测算表!L:L,,0,1) -> 自主定价 | O31: 丙类 | P31: 1
A32: 15 | B32: 011102040010000 | C32: 互联网诊查费（首诊） | D32: 指中级职称及以下医务人员通过互联网医疗服务平台提供技术劳务的首次诊疗服务，包含为患者提供从问诊到诊断，制定诊疗方案或提出下一步诊疗建议。 | E32: 所定价格涵盖信息核实、在线问诊、记录分析、制定诊疗方案或建议，必要时在线开具处方等所需的人力资源和基本物质资源消耗。 | F32: 01副主任医师加收 02主任医师加收 03知名专家加收 | H32: 次 | I32: 收费范围限国家卫生健康主管部门准许通过互联网方式开展的首诊服务。该项目目前处于未激活状态，待国家卫健委另行规定激活后生效。 | J32: =_xlfn.XLOOKUP($B32,[1]测算表!$B:$B,[1]测算表!H:H,,0,1) -> / | K32: =_xlfn.XLOOKUP($B32,[1]测算表!$B:$B,[1]测算表!I:I,,0,1) -> / | L32: =_xlfn.XLOOKUP($B32,[1]测算表!$B:$B,[1]测算表!J:J,,0,1) -> / | M32: =_xlfn.XLOOKUP($B32,[1]测算表!$B:$B,[1]测算表!K:K,,0,1) -> / | N32: =_xlfn.XLOOKUP($B32,[1]测算表!$B:$B,[1]测算表!L:L,,0,1) -> /
B33: 011102040010001 | C33: 互联网诊查费（首诊）-副主任医师（加收） | J33: =_xlfn.XLOOKUP($B33,[1]测算表!$B:$B,[1]测算表!H:H,,0,1) -> / | K33: =_xlfn.XLOOKUP($B33,[1]测算表!$B:$B,[1]测算表!I:I,,0,1) -> / | L33: =_xlfn.XLOOKUP($B33,[1]测算表!$B:$B,[1]测算表!J:J,,0,1) -> / | M33: =_xlfn.XLOOKUP($B33,[1]测算表!$B:$B,[1]测算表!K:K,,0,1) -> / | N33: =_xlfn.XLOOKUP($B33,[1]测算表!$B:$B,[1]测算表!L:L,,0,1) -> /
B34: 011102040010002 | C34: 互联网诊查费（首诊）-正主任医师（加收） | J34: =_xlfn.XLOOKUP($B34,[1]测算表!$B:$B,[1]测算表!H:H,,0,1) -> / | K34: =_xlfn.XLOOKUP($B34,[1]测算表!$B:$B,[1]测算表!I:I,,0,1) -> / | L34: =_xlfn.XLOOKUP($B34,[1]测算表!$B:$B,[1]测算表!J:J,,0,1) -> / | M34: =_xlfn.XLOOKUP($B34,[1]测算表!$B:$B,[1]测算表!K:K,,0,1) -> / | N34: =_xlfn.XLOOKUP($B34,[1]测算表!$B:$B,[1]测算表!L:L,,0,1) -> /
B35: 011102040010003 | C35: 互联网诊查费（首诊）-知名专家（加收） | J35: =_xlfn.XLOOKUP($B35,[1]测算表!$B:$B,[1]测算表!H:H,,0,1) -> / | K35: =_xlfn.XLOOKUP($B35,[1]测算表!$B:$B,[1]测算表!I:I,,0,1) -> / | L35: =_xlfn.XLOOKUP($B35,[1]测算表!$B:$B,[1]测算表!J:J,,0,1) -> / | M35: =_xlfn.XLOOKUP($B35,[1]测算表!$B:$B,[1]测算表!K:K,,0,1) -> / | N35: =_xlfn.XLOOKUP($B35,[1]测算表!$B:$B,[1]测算表!L:L,,0,1) -> /
A36: 16 | B36: 011102040020000 | C36: 互联网诊查费（复诊） | D36: 指医务人员通过互联网医疗服务平台提供技术劳务的复诊诊疗服务，包含为患者提供从问诊到诊断，制定诊疗方案或提出下一步诊疗建议。 | E36: 所定价格涵盖信息核实、在线问诊、查阅既往病历及检查报告、记录分析、制定诊疗方案或建议，必要时在线开具处方等所需的人力资源和基本物质资源消耗。 | H36: 次 | I36: 1.收费范围限国家卫生健康主管部门准许通过互联网方式开展的复诊服务。 2.公立医疗机构开展互联网复诊，由不同级别医务人员提供服务，均按普通门诊诊查类项目价格收费。 | J36: 8 | K36: 7 | L36: 7 | M36: 6 | N36: 6 | O36: 甲类 | P36: 0
A37: 17 | B37: 011108000010000 | C37: 远程监测费 | D37: 指医技人员为院外患者提供的远程监测服务。 | E37: 所定价格涵盖信息核实、检查设备功能、安置远程监测设备、指导使用、程控打开远程监测设备、数据信息采集、分析判断、结果反馈、提供建议，指导随访等所需的人力资源和基本物质资源消耗。 | H37: 日 | I37: 1.具备远程实时监测功能，且实时传输数据至医院端供医生了解病情的装置使用时可收取该项费用。仅具有数据存储功能，不能实时传输数据的设备不得收取此费用。 2.远程监测范围仅限国家卫生健康主管部门准许开展的心电监护、除颤器监护、起搏器监护等项目。 | J37: =_xlfn.XLOOKUP($B37,[1]测算表!$B:$B,[1]测算表!H:H,,0,1) -> 70 | K37: =_xlfn.XLOOKUP($B37,[1]测算表!$B:$B,[1]测算表!I:I,,0,1) -> 63 | L37: =_xlfn.XLOOKUP($B37,[1]测算表!$B:$B,[1]测算表!J:J,,0,1) -> 63 | M37: =_xlfn.XLOOKUP($B37,[1]测算表!$B:$B,[1]测算表!K:K,,0,1) -> 54 | N37: =_xlfn.XLOOKUP($B37,[1]测算表!$B:$B,[1]测算表!L:L,,0,1) -> 54 | O37: 丙类 | P37: 1
A38: 18 | B38: 011105000010000 | C38: 床位费（单人间） | D38: 指住院期间为患者提供的单人病房及相关设施，可提供用于家属陪护、独立卫浴等需求的相关设施。 | E38: 所定价格涵盖床单位必备设施，包括但不限于腕带、病人服装、文档资料及管理、床单位设备及布草、独立卫浴、能源消耗、医疗垃圾及污水处理、病房控温设施及维护等所需的人力资源和基本物质资源消耗。 | H38: 床位·日 | I38: 单人间床位费实行市场调节价，由医院自主制定收费标准，未达到本条所列服务产出要求的单人间，收取床位费从严把握，或暂时按原政府指导价。 | J38: =_xlfn.XLOOKUP($B38,[1]测算表!$B:$B,[1]测算表!H:H,,0,1) -> 自主定价 | K38: =_xlfn.XLOOKUP($B38,[1]测算表!$B:$B,[1]测算表!I:I,,0,1) -> 自主定价 | L38: =_xlfn.XLOOKUP($B38,[1]测算表!$B:$B,[1]测算表!J:J,,0,1) -> 自主定价 | M38: =_xlfn.XLOOKUP($B38,[1]测算表!$B:$B,[1]测算表!K:K,,0,1) -> 自主定价 | N38: =_xlfn.XLOOKUP($B38,[1]测算表!$B:$B,[1]测算表!L:L,,0,1) -> 自主定价 | O38: 乙类 | P38: 限额
A39: 19 | B39: 011105000020000 | C39: 床位费（二人间） | D39: 指住院期间为患者提供的双人病房床位及相关设施。 | E39: 所定价格涵盖床单位必备设施，包括但不限于腕带、病人服装、文档资料及管理、床单位设备及布草、独立卫生间、能源消耗、医疗垃圾及污水处理、病房控温设施及维护等所需的人力资源和基本物质资源消耗。 | H39: 床位·日 | J39: =_xlfn.XLOOKUP($B39,[1]测算表!$B:$B,[1]测算表!H:H,,0,1) -> 56 | K39: =_xlfn.XLOOKUP($B39,[1]测算表!$B:$B,[1]测算表!I:I,,0,1) -> 50 | L39: =_xlfn.XLOOKUP($B39,[1]测算表!$B:$B,[1]测算表!J:J,,0,1) -> 50 | M39: =_xlfn.XLOOKUP($B39,[1]测算表!$B:$B,[1]测算表!K:K,,0,1) -> 35 | N39: =_xlfn.XLOOKUP($B39,[1]测算表!$B:$B,[1]测算表!L:L,,0,1) -> 35 | O39: 乙类 | P39: 限额
A40: 20 | B40: 011105000030000 | C40: 床位费（三人间） | D40: 指住院期间为患者提供的三人病房床位及相关设施。 | E40: 所定价格涵盖床单位必备设施，包括但不限于腕带、病人服装、文档资料及管理、床单位设备及布草、独立卫生间、能源消耗、医疗垃圾及污水处理、病房控温设施及维护等所需的人力资源和基本物质资源消耗。 | H40: 床位·日 | J40: =_xlfn.XLOOKUP($B40,[1]测算表!$B:$B,[1]测算表!H:H,,0,1) -> 45 | K40: =_xlfn.XLOOKUP($B40,[1]测算表!$B:$B,[1]测算表!I:I,,0,1) -> 40 | L40: =_xlfn.XLOOKUP($B40,[1]测算表!$B:$B,[1]测算表!J:J,,0,1) -> 40 | M40: =_xlfn.XLOOKUP($B40,[1]测算表!$B:$B,[1]测算表!K:K,,0,1) -> 32 | N40: =_xlfn.XLOOKUP($B40,[1]测算表!$B:$B,[1]测算表!L:L,,0,1) -> 32 | O40: 乙类 | P40: 限额
...
